﻿BEGIN:VCALENDAR
VERSION:2.0
PRODID:-//wp-events-plugin.com//7.2.3.1//EN
TZID:Europe/Amsterdam
X-WR-TIMEZONE:Europe/Amsterdam
BEGIN:VEVENT
UID:1027@bezoekhetnoorden.nl
DTSTART;TZID=Europe/Amsterdam:20190821T133000
DTEND;TZID=Europe/Amsterdam:20190821T150000
DTSTAMP:20190221T170436Z
URL:https://bezoekhetnoorden.nl/evenementen/zomerwandeling-over-de-hondsru
 g-7/
SUMMARY:Zomerwandeling over de Hondsrug
DESCRIPTION:Het is zomer\, tijd om naar buiten te gaan bij Buitencentrum Bo
 omkroonpad! De gids van Staatsbosbeheer neemt je op de woensdagen in juli 
 en augustus mee voor een afwisselende zomerwandeling. Hij vertelt je van a
 lles over de veelzijdigheid van de bomen\, planten\, dieren en vogels van 
 het bos op dit moment. De wandeling gaat verder langs heidevelden en venne
 n\, die in de zomer prachtig zijn. Een fijne wandeling voor het hele gezin
 !\n\nTrek stevige schoenen aan\nDe wandeling is niet geschikt voor minderv
 aliden en kinderwagens vanwege onverharde paden\nHonden zijn niet toegesta
 an.
ATTACH;FMTTYPE=image/jpeg:https://bezoekhetnoorden.nl/new/wp-content/uploa
 ds/2018/03/zomer-wandelen-1.jpg
CATEGORIES:Wandelen
LOCATION:\, \, 
X-APPLE-STRUCTURED-LOCATION;VALUE=URI;X-ADDRESS=\, ;X-APPLE-RADIUS=100;X-TI
 TLE=:geo:0,0
END:VEVENT
BEGIN:VTIMEZONE
TZID:Europe/Amsterdam
X-LIC-LOCATION:Europe/Amsterdam
BEGIN:DAYLIGHT
DTSTART:20190331T030000
TZOFFSETFROM:+0100
TZOFFSETTO:+0200
TZNAME:CEST
END:DAYLIGHT
END:VTIMEZONE
END:VCALENDAR