﻿BEGIN:VCALENDAR
VERSION:2.0
PRODID:-//wp-events-plugin.com//7.2.3.1//EN
TZID:Europe/Amsterdam
X-WR-TIMEZONE:Europe/Amsterdam
BEGIN:VEVENT
UID:239@bezoekhetnoorden.nl
DTSTART;TZID=Europe/Amsterdam:20190929T110000
DTEND;TZID=Europe/Amsterdam:20190929T170000
DTSTAMP:20190216T222713Z
URL:https://bezoekhetnoorden.nl/evenementen/zeldzaam-mooie-markt-3/
SUMMARY:Zeldzaam Mooie Markt
DESCRIPTION:Op koopzondag 29 september is er zeldzaam mooie markt op de Vis
 markt in Groningen. Het is een markt met allerlei unieke\, originele en ha
 ndgemaakte producten\, maar ook met andere rariteiten zoals\, creatief her
 gebruik\, vintage en retro artikelen. \n\nKunstenaar Oscar Prinsen heeft e
 en prachtige balans gevonden tussen zijn kunst en het draaien van plaatjes
 . Op de zeldzaam mooi markt zorgt Oscar voor de muzikale omlijsting met ou
 de vinyl singletjes\; jukebox\, soul\, funk\, disco\, Franse chansons\, ja
 zzy en pop. \n\nOp deze wel heel bijzondere en gezellige markt vind je ech
 t eens iets anders en ontmoet je de personen achter dat leuke product dat 
 je al eens in de media zag. Met meer dan 100 verschillende deelnemers is e
 r voor ieder wat wils. Van vilt\, illustraties\, kunst\, houten (woon) acc
 essoires\, tot tassen\, kleding en nog heel veel meer.
ATTACH;FMTTYPE=image/jpeg:https://bezoekhetnoorden.nl/new/wp-content/uploa
 ds/2016/11/vismarkt.jpg
CATEGORIES:Markt / Braderie
LOCATION:\, \, 
X-APPLE-STRUCTURED-LOCATION;VALUE=URI;X-ADDRESS=\, ;X-APPLE-RADIUS=100;X-TI
 TLE=:geo:0,0
END:VEVENT
BEGIN:VTIMEZONE
TZID:Europe/Amsterdam
X-LIC-LOCATION:Europe/Amsterdam
BEGIN:DAYLIGHT
DTSTART:20190331T030000
TZOFFSETFROM:+0100
TZOFFSETTO:+0200
TZNAME:CEST
END:DAYLIGHT
END:VTIMEZONE
END:VCALENDAR