﻿BEGIN:VCALENDAR
VERSION:2.0
PRODID:-//wp-events-plugin.com//7.2.3.1//EN
TZID:Europe/Amsterdam
X-WR-TIMEZONE:Europe/Amsterdam
BEGIN:VEVENT
UID:1546@bezoekhetnoorden.nl
DTSTART;TZID=Europe/Amsterdam:20190228T100000
DTEND;TZID=Europe/Amsterdam:20190228T170000
DTSTAMP:20190217T201656Z
URL:https://bezoekhetnoorden.nl/evenementen/woudagemaal-drie-dagen-onder-s
 toom-3/
SUMMARY:Woudagemaal drie dagen onder stoom
DESCRIPTION:IJs en weder dienende brengt Wetterskip Fryslân het Ir. D.F. W
 oudagemaal in Lemmer drie dagen onder stoom. \n \nBelangstellenden zijn we
 lkom van dinsdag 26 tot en met donderdag 28 februari tussen 10.00 en 17.00
  uur in het grootste stoomgemaal ter wereld dat nog in functie is. Een uni
 eke kans om het UNESCO Werelderfgoed in werking te bekijken! Vanwege het s
 ucces bij de vorige draaidagen zijn er ook deze keer speciale kinderrondle
 idingen.\n \nKinderrondleidingen\nTijdens de draaidagen zijn er speciale k
 inderrondleidingen om kinderen kennis te laten maken met het grootste\, no
 g functionerende stoomgemaal ter wereld. Tot op de dag van vandaag heeft h
 et stoomgemaal een belangrijke functie in het waterbeheer. De kinderrondle
 idingen starten alle drie draaidagen om 11.00 uur en om 14.00 uur. Kindere
 n van zes tot en met twaalf jaar mogen daaraan gratis deelnemen.\n \nLet o
 p kinderen! Het is wel belangrijk om je voor de kinderrondleidingen zo sne
 l mogelijk aan te melden via info@woudagemaal.nl\, want het aantal plaatse
 n is beperkt. Zet in de mail de datum en tijd wanneer je wilt komen. 
ATTACH;FMTTYPE=image/jpeg:https://bezoekhetnoorden.nl/new/wp-content/uploa
 ds/2019/02/woudagemaal-onder-stoom.jpg
CATEGORIES:Toer
LOCATION:\, \, 
X-APPLE-STRUCTURED-LOCATION;VALUE=URI;X-ADDRESS=\, ;X-APPLE-RADIUS=100;X-TI
 TLE=:geo:0,0
END:VEVENT
BEGIN:VTIMEZONE
TZID:Europe/Amsterdam
X-LIC-LOCATION:Europe/Amsterdam
BEGIN:STANDARD
DTSTART:20181028T020000
TZOFFSETFROM:+0200
TZOFFSETTO:+0100
TZNAME:CET
END:STANDARD
END:VTIMEZONE
END:VCALENDAR