﻿BEGIN:VCALENDAR
VERSION:2.0
PRODID:-//wp-events-plugin.com//7.2.3.1//EN
TZID:Europe/Amsterdam
X-WR-TIMEZONE:Europe/Amsterdam
BEGIN:VEVENT
UID:1751@bezoekhetnoorden.nl
DTSTART;TZID=Europe/Amsterdam:20190804T140000
DTEND;TZID=Europe/Amsterdam:20190804T170000
DTSTAMP:20190718T164328Z
URL:https://bezoekhetnoorden.nl/evenementen/wildpluk-arrangement-2/
SUMMARY:Wildpluk arrangement
DESCRIPTION:Maak kennis met wildplukken onder leiding van bioloog en wildpl
 ukster Olga. \n\nTijdens een wandeling in het prachtige Reestdal laat zij 
 zien welke planten\, bessen\, bloemen e.d. eetbaar zijn en welke je beter 
 kunt laten staan. Onderweg laat Olga diverse dingen proeven. Verbaas je ov
 er de diversiteit aan smaken! Na de wandeling kun je genieten van een heer
 lijke ‘wildpluk high tea’ van kleine gerechtjes die Olga heeft voorber
 eid. Proef eerst de verschillende soepjes\, daarna volgen diverse hartige 
 gerechtjes en ter afsluiting een zoete ronde. We zetten er natuurlijk thee
  bij van onze eigen wildpluk.\n\nAanmelden is noodzakelijk en kan via wild
 pluksterolga@gmail.com\n\n\n\n\n\n
ATTACH;FMTTYPE=image/jpeg:https://bezoekhetnoorden.nl/new/wp-content/uploa
 ds/2014/11/32-reest-2009-JvdM-1-e1553011378486.jpg
CATEGORIES:Arrangement
LOCATION:\, \, 
X-APPLE-STRUCTURED-LOCATION;VALUE=URI;X-ADDRESS=\, ;X-APPLE-RADIUS=100;X-TI
 TLE=:geo:0,0
END:VEVENT
BEGIN:VTIMEZONE
TZID:Europe/Amsterdam
X-LIC-LOCATION:Europe/Amsterdam
BEGIN:DAYLIGHT
DTSTART:20190331T030000
TZOFFSETFROM:+0100
TZOFFSETTO:+0200
TZNAME:CEST
END:DAYLIGHT
END:VTIMEZONE
END:VCALENDAR