﻿BEGIN:VCALENDAR
VERSION:2.0
PRODID:-//wp-events-plugin.com//7.2.3.1//EN
TZID:Europe/Amsterdam
X-WR-TIMEZONE:Europe/Amsterdam
BEGIN:VEVENT
UID:1352@bezoekhetnoorden.nl
DTSTART;TZID=Europe/Amsterdam:20181208T160000
DTEND;TZID=Europe/Amsterdam:20181208T200000
DTSTAMP:20181008T131816Z
URL:https://bezoekhetnoorden.nl/evenementen/wiekster-kerstmarkt/
SUMMARY:Wiekster Kerstmarkt
DESCRIPTION:Ons Oranje Comité organiseert op zaterdag 8 december weer de j
 aarlijkse traditionele- en succesvolle Wiekster #Kerstmarkt op het Meerten
 splein in Ommelanderwijk!
ATTACH;FMTTYPE=image/jpeg:https://bezoekhetnoorden.nl/new/wp-content/uploa
 ds/2018/10/kerstmarkt-veendam.jpg
CATEGORIES:Kerstmarkt
LOCATION:\, \, 
X-APPLE-STRUCTURED-LOCATION;VALUE=URI;X-ADDRESS=\, ;X-APPLE-RADIUS=100;X-TI
 TLE=:geo:0,0
END:VEVENT
BEGIN:VTIMEZONE
TZID:Europe/Amsterdam
X-LIC-LOCATION:Europe/Amsterdam
BEGIN:STANDARD
DTSTART:20181028T020000
TZOFFSETFROM:+0200
TZOFFSETTO:+0100
TZNAME:CET
END:STANDARD
END:VTIMEZONE
END:VCALENDAR