﻿BEGIN:VCALENDAR
VERSION:2.0
PRODID:-//wp-events-plugin.com//7.2.3.1//EN
TZID:Europe/Amsterdam
X-WR-TIMEZONE:Europe/Amsterdam
BEGIN:VEVENT
UID:1547@bezoekhetnoorden.nl
DTSTART;TZID=Europe/Amsterdam:20190216T110000
DTEND;TZID=Europe/Amsterdam:20190310T170000
DTSTAMP:20190220T110641Z
URL:https://bezoekhetnoorden.nl/evenementen/voorjaarsvakantie-oertijdpark/
SUMMARY:Voorjaarsvakantie - Oertijdpark
DESCRIPTION:Het Oertijdpark is de plek waar de prehistorie tot leven komt. 
 Maak een wandeling door 150.000 jaar geschiedenis en ga zelf op ontdekking
  en sta oog in oog met de prehistorische mensen.\n\nVuur is de oudste ontd
 ekking de mens heeft gedaan. Maar hoe werd vuur gemaakt in de prehistorie?
  Ga op ontdekking in het Oertijdpark en leer van een echt prehistorisch me
 ns hoe je vuur kunt maken.
CATEGORIES:Excursie
LOCATION:\, \, 
X-APPLE-STRUCTURED-LOCATION;VALUE=URI;X-ADDRESS=\, ;X-APPLE-RADIUS=100;X-TI
 TLE=:geo:0,0
END:VEVENT
BEGIN:VTIMEZONE
TZID:Europe/Amsterdam
X-LIC-LOCATION:Europe/Amsterdam
BEGIN:STANDARD
DTSTART:20181028T020000
TZOFFSETFROM:+0200
TZOFFSETTO:+0100
TZNAME:CET
END:STANDARD
END:VTIMEZONE
END:VCALENDAR