﻿BEGIN:VCALENDAR
VERSION:2.0
PRODID:-//wp-events-plugin.com//7.2.3.1//EN
TZID:Europe/Amsterdam
X-WR-TIMEZONE:Europe/Amsterdam
BEGIN:VEVENT
UID:1333@bezoekhetnoorden.nl
DTSTART;TZID=Europe/Amsterdam:20191006T110000
DTEND;TZID=Europe/Amsterdam:20191006T160000
DTSTAMP:20190920T155314Z
URL:https://bezoekhetnoorden.nl/evenementen/volop-vermaak-op-het-kinder-bu
 iten-festival/
SUMMARY:volop vermaak op het Kinder Buiten Festival
DESCRIPTION:Op zondag 6 oktober vindt voor de 6e keer het Kinder Buiten Fes
 tival van Stichting Het Drentse Landschap plaats.  Dit leukste buitenfeest
  van het jaar wordt traditiegetrouw gehouden bij Kampsheide\, aan de rand 
 van Assen. Iedereen\, jong en oud\, is tussen 11.00 en 16.00 uur van harte
  welkom\, de toegang is gratis. \n\nOnder het motto ‘Kom je buiten spele
 n?’ belooft het weer een gezellige speeldag in de natuur te worden. Kind
 eren  kunnen zich uitleven op klim- en klauterplekken\, teruggaan naar de 
 Middeleeuwen\, ze kunnen bouwen\, of een eigen smoothie maken op een duurz
 ame manier. Knikkeren op supergrote knikkerbanen\, een echt harnas bewonde
 ren kan ook. Maar wil je liever lekker creatief bezig zijn\, we hebben het
  allemaal.\nEen aantal activiteiten houden we nog even als verrassing\, ge
 woon omdat het zo leuk is.  Kortom\, er is van alles te beleven.\n\nDatum:
  zondag 6 oktober\nTijd: 11.00 – 16.00 uur\nLocatie: weiland bij boerder
 ij Kamps\, Kamps 1\, 9451 TB Rolde. \nParkeren: achter café De Aanleg\, A
 sserstraat 63\, 9451 TA Deurze (vanaf daar is het ongeveer 5 minuten lopen
  naar het festivalterrein).\n\nHet totale programma staat binnenkort  op  
 https://www.drentslandschap.nl/event/kinderbuitenfestival\n
ATTACH;FMTTYPE=image/jpeg:https://bezoekhetnoorden.nl/new/wp-content/uploa
 ds/2018/09/KinderBuitenFestival-Foto-Herry-Vos.jpg
CATEGORIES:Kinderactiviteit
LOCATION:\, \, 
X-APPLE-STRUCTURED-LOCATION;VALUE=URI;X-ADDRESS=\, ;X-APPLE-RADIUS=100;X-TI
 TLE=:geo:0,0
END:VEVENT
BEGIN:VTIMEZONE
TZID:Europe/Amsterdam
X-LIC-LOCATION:Europe/Amsterdam
BEGIN:DAYLIGHT
DTSTART:20190331T030000
TZOFFSETFROM:+0100
TZOFFSETTO:+0200
TZNAME:CEST
END:DAYLIGHT
END:VTIMEZONE
END:VCALENDAR