﻿BEGIN:VCALENDAR
VERSION:2.0
PRODID:-//wp-events-plugin.com//7.2.3.1//EN
TZID:Europe/Amsterdam
X-WR-TIMEZONE:Europe/Amsterdam
BEGIN:VEVENT
UID:2068@bezoekhetnoorden.nl
DTSTART;TZID=Europe/Amsterdam:20211218T190000
DTEND;TZID=Europe/Amsterdam:20211218T213000
DTSTAMP:20211117T183125Z
URL:https://bezoekhetnoorden.nl/evenementen/vollemaanwandeling-in-het-dren
 ts-friese-wold/
SUMMARY:Vollemaanwandeling in het Drents-Friese Wold
DESCRIPTION:Volle maan blijft een bijzonder natuurverschijnsel. Tijdens dez
 e mystieke avond kun je bij Buitencentrum Drents-Friese Wold een bijzonder
 e wandeling maken. Samen met een gids van Staatsbosbeheer dwaal je door de
  in stilte gehulde duinen\, dit unieke stuifzand\, ook wel de Kale Duinen 
 genoemd\, en over door de maan verlichte velden. \n\nAl je zintuigen staan
  op scherp. Een onvergetelijke ervaring voor het hele gezin.\n\nPraktisch:
 \nStartlocatie: parkeerplaats Aekingerzand\nGeen toilet beschikbaar op sta
 rtlocatie\nKleed je op het weer en trek stevige schoenen aan\nTip: neem je
  verrekijker mee\nNiet geschikt voor mindervaliden omdat de route door het
  stuifzandgebied loopt\nHonden zijn niet toegestaan
ATTACH;FMTTYPE=image/jpeg:https://bezoekhetnoorden.nl/new/wp-content/uploa
 ds/2017/01/volle-maan-wandeling.jpg
CATEGORIES:Wandelen
LOCATION:\, \, 
X-APPLE-STRUCTURED-LOCATION;VALUE=URI;X-ADDRESS=\, ;X-APPLE-RADIUS=100;X-TI
 TLE=:geo:0,0
END:VEVENT
BEGIN:VTIMEZONE
TZID:Europe/Amsterdam
X-LIC-LOCATION:Europe/Amsterdam
BEGIN:STANDARD
DTSTART:20211031T020000
TZOFFSETFROM:+0200
TZOFFSETTO:+0100
TZNAME:CET
END:STANDARD
END:VTIMEZONE
END:VCALENDAR