﻿BEGIN:VCALENDAR
VERSION:2.0
PRODID:-//wp-events-plugin.com//7.2.3.1//EN
TZID:Europe/Amsterdam
X-WR-TIMEZONE:Europe/Amsterdam
BEGIN:VEVENT
UID:1596@bezoekhetnoorden.nl
DTSTART;TZID=Europe/Amsterdam:20190331T100000
DTEND;TZID=Europe/Amsterdam:20190331T120000
DTSTAMP:20190224T200709Z
URL:https://bezoekhetnoorden.nl/evenementen/vogels-van-het-lauwersmeer/
SUMMARY:Vogels van het Lauwersmeer
DESCRIPTION:Ontdek samen met de boswachter van Staatsbosbeheer de rijkdom a
 an vogels van Nationaal Park Lauwersmeer. Elk seizoen verblijven hier ande
 re soorten. \n\nEn elk moment van de dag zijn andere vogels actief. De bos
 wachter weet precies welke soorten er nu zitten en waar je ze kunt vinden.
  Een excursie voor het hele gezin.\n\n\nTrek stevige schoenen aan en kleed
  je op het weer\nTip: neem je verrekijker mee\nNiet toegankelijk voor mind
 ervaliden in verband met onverharde paden\nHonden niet toegestaan
ATTACH;FMTTYPE=image/jpeg:https://bezoekhetnoorden.nl/new/wp-content/uploa
 ds/2019/02/Vogels-van-het-Lauwersmeer.jpg
CATEGORIES:Excursie
LOCATION:\, \, 
X-APPLE-STRUCTURED-LOCATION;VALUE=URI;X-ADDRESS=\, ;X-APPLE-RADIUS=100;X-TI
 TLE=:geo:0,0
END:VEVENT
BEGIN:VTIMEZONE
TZID:Europe/Amsterdam
X-LIC-LOCATION:Europe/Amsterdam
BEGIN:DAYLIGHT
DTSTART:20190331T030000
TZOFFSETFROM:+0100
TZOFFSETTO:+0200
TZNAME:CEST
END:DAYLIGHT
END:VTIMEZONE
END:VCALENDAR