﻿BEGIN:VCALENDAR
VERSION:2.0
PRODID:-//wp-events-plugin.com//7.2.3.1//EN
TZID:Europe/Amsterdam
X-WR-TIMEZONE:Europe/Amsterdam
BEGIN:VEVENT
UID:1591@bezoekhetnoorden.nl
DTSTART;TZID=Europe/Amsterdam:20190303T133000
DTEND;TZID=Europe/Amsterdam:20190303T143000
DTSTAMP:20190224T194851Z
URL:https://bezoekhetnoorden.nl/evenementen/vogelpraat-met-de-boswachter-v
 an-het-lauwersmeer/
SUMMARY:Vogelpraat met de boswachter van het Lauwersmeer
DESCRIPTION:Vogelpraat in activiteitencentrum Lauwersnest! De boswachter va
 n Staatsbosbeheer vertelt je op zijn spreekuur alles over de vogels die op
  dit moment in het natuurgebied verblijven. \n\nHet Lauwersmeergebied is 
 één van de belangrijkste vogelgebieden in West-Europa. In dit afwisselen
 de landschap van water\, eilandjes en ruige graslanden eten\, broeden en r
 usten ruim honderd vogelsoorten. \n\nEn heb je vragen over vogels of ander
 e dingen over de natuur? Kom dan eens langs! Voor jong en oud.\n\nGratis e
 ntree\, wel reserveren\nToegankelijk voor mindervaliden\nHonden mogen mee\
 , mits aangelijnd
ATTACH;FMTTYPE=image/jpeg:https://bezoekhetnoorden.nl/new/wp-content/uploa
 ds/2019/02/Vogelpraat-met-de-boswachter-van-het-Lauwersmeer.jpg
CATEGORIES:Excursie
LOCATION:\, \, 
X-APPLE-STRUCTURED-LOCATION;VALUE=URI;X-ADDRESS=\, ;X-APPLE-RADIUS=100;X-TI
 TLE=:geo:0,0
END:VEVENT
BEGIN:VTIMEZONE
TZID:Europe/Amsterdam
X-LIC-LOCATION:Europe/Amsterdam
BEGIN:STANDARD
DTSTART:20181028T020000
TZOFFSETFROM:+0200
TZOFFSETTO:+0100
TZNAME:CET
END:STANDARD
END:VTIMEZONE
END:VCALENDAR