﻿BEGIN:VCALENDAR
VERSION:2.0
PRODID:-//wp-events-plugin.com//7.2.3.1//EN
TZID:Europe/Amsterdam
X-WR-TIMEZONE:Europe/Amsterdam
BEGIN:VEVENT
UID:2158@bezoekhetnoorden.nl
DTSTART;TZID=Europe/Amsterdam:20240615T093000
DTEND;TZID=Europe/Amsterdam:20240615T113000
DTSTAMP:20240224T182227Z
URL:https://bezoekhetnoorden.nl/evenementen/vogel-verrekijker-excursie-5/
SUMMARY:Vogel-Verrekijker excursie
DESCRIPTION:Onder leiding van Coby Koops\, de “Natuurkieker”\, gaat u h
 et veld in bij Holtveen-Dwingelderveld en bezoekt u de vogelkijkhut. Wat g
 aat u zien? Een Sperwer?\, een boomvalk?\, de Kraanvogel? Een breed spectr
 um aan vogels zijn er te vinden in dit gebied\, de Rietzanger\, Geelgors\,
  Koekoek enz enz. Coby neemt een assortiment aan verrekijkers mee zodat u 
 naar hartelust kunt testen en vergelijken en vooral ontdekken. De natuur i
 n haar volle glorie ontdekken\, onder leiding van een natuurgids die u weg
 wijs maakt en u kennis laat maken met vele verschillende vogelsoorten.\n\n
 parkeerplaats Holtveen - Dwingelderveld volgen met de volgende\n\naanvulli
 ng: Vanaf de A28 neemt u afslag 28 (Pesse). Hier gaat u de snelweg weer on
 derdoor\, richting Eursinge. Vervolgens naar rechts de Kraloërweg op. LET
  OP: Negeer Kraloerweg 10\, maar blijf deze weg volgen totdat u de parkeer
 plek aan het eind van de Kraloerweg bereikt.
ATTACH;FMTTYPE=image/jpeg:https://bezoekhetnoorden.nl/new/wp-content/uploa
 ds/2024/02/Vogel-Verrekijker-excursie-5.jpg
CATEGORIES:Excursie
LOCATION:Holtveen\, Kraloërweg\, Dwingeloo\, Drenthe\, Nederland
X-APPLE-STRUCTURED-LOCATION;VALUE=URI;X-ADDRESS=Kraloërweg\, Dwingeloo\, D
 renthe\, Nederland;X-APPLE-RADIUS=100;X-TITLE=Holtveen:geo:0,0
END:VEVENT
BEGIN:VTIMEZONE
TZID:Europe/Amsterdam
X-LIC-LOCATION:Europe/Amsterdam
BEGIN:DAYLIGHT
DTSTART:20240331T030000
TZOFFSETFROM:+0100
TZOFFSETTO:+0200
TZNAME:CEST
END:DAYLIGHT
END:VTIMEZONE
END:VCALENDAR