﻿BEGIN:VCALENDAR
VERSION:2.0
PRODID:-//wp-events-plugin.com//7.2.3.1//EN
TZID:Europe/Amsterdam
X-WR-TIMEZONE:Europe/Amsterdam
BEGIN:VEVENT
UID:1007@bezoekhetnoorden.nl
DTSTART;TZID=Europe/Amsterdam:20230722T110000
DTEND;TZID=Europe/Amsterdam:20230723T180000
DTSTAMP:20230627T174141Z
URL:https://bezoekhetnoorden.nl/evenementen/vesting-specatulum/
SUMMARY:Vesting Spectaculum
DESCRIPTION:Op zaterdag 22 en zondag 23 juli 2023 vindt het Vesting Spectac
 ulum plaats in de Vesting Bourtange. In dit weekend opent Bourtange de ves
 tingpoorten voor de “ Fogelvreien” en u kunt een reis terug in de tijd
  beleven. Van Middeleeuwen tot en met de 80-jarige oorlog\, alles ademt de
  cultuur en het leven uit het roemruchte verleden. \n\nTientallen handelar
 en\, met waren uit vroeger tijden\, proberen hun artikelen aan de man te b
 rengen en allerlei lieden bevolken de vesting om hun kunsten te vertonen. 
 \n\nDe barbier\, de smid\, de mandenmaker\, de wever maar ook de charlatan
 s\, jongleurs en chirurgijnen zijn aanwezig. Muzikanten en dansers tonen h
 un kunnen om de bezoekers van heinde en verre te onderhouden.\n\nDiverse g
 roepen re-enactors met musketiers\, piekeniers\, soldatenvrouwen en kinder
 en bevolken de Bastions\, de buitengebieden van de vesting en het marktple
 in en beelden het turbulente leven in een vestingbolwerk van vroeger uit.\
 n\nOp het Pastoorsbastion is een groot kamp ingericht met allerlei histori
 sche spelletjes voor kinderen opdat het Vesting Spectaculum speciaal voor 
 gezinnen een onvergetelijke dag kan worden. \n\nOp zaterdagavond nodigen w
 e u speciaal uit voor de nacht van de Middeleeuwen. Wegen en gebouwen en d
 e stands van de handelaren worden verlicht met flambouwen\, fakkels\, lich
 tpotten en lampen en vormen het decor voor een turbulent schouwspel in all
 e straatjes en verborgen plekjes in de vesting\n\nOpeningstijden:\n\nZater
 dag van 11.00 tot 22.00 uur\nZondag van 11.00 18.00 uur
ATTACH;FMTTYPE=image/jpeg:https://bezoekhetnoorden.nl/new/wp-content/uploa
 ds/2018/03/Vesting-Spectaculum.jpg
CATEGORIES:Festival
LOCATION:Vesting Bourtange\, W. Lodewijkstraat 33 \, Bourtange \, Groningen
 \, GR\, Groningen\, Nederland
GEO:53.008594;7.189636
X-APPLE-STRUCTURED-LOCATION;VALUE=URI;X-ADDRESS=W. Lodewijkstraat 33 \, Bou
 rtange \, Groningen\, GR\, Groningen\, Nederland;X-APPLE-RADIUS=100;X-TITL
 E=Vesting Bourtange:geo:53.008594,7.189636
END:VEVENT
BEGIN:VTIMEZONE
TZID:Europe/Amsterdam
X-LIC-LOCATION:Europe/Amsterdam
BEGIN:DAYLIGHT
DTSTART:20230326T030000
TZOFFSETFROM:+0100
TZOFFSETTO:+0200
TZNAME:CEST
END:DAYLIGHT
END:VTIMEZONE
END:VCALENDAR