﻿BEGIN:VCALENDAR
VERSION:2.0
PRODID:-//wp-events-plugin.com//7.2.3.1//EN
TZID:Europe/Amsterdam
X-WR-TIMEZONE:Europe/Amsterdam
BEGIN:VEVENT
UID:1845@bezoekhetnoorden.nl
DTSTART;TZID=Europe/Amsterdam:20190806T110000
DTEND;TZID=Europe/Amsterdam:20190806T170000
DTSTAMP:20190803T173857Z
URL:https://bezoekhetnoorden.nl/evenementen/vakantiemarkt-exloo/
SUMMARY:Vakantiemarkt Exloo
DESCRIPTION:In het toeristische hart van Exloo organiseert Huurkraam.nl in 
 2019 een aantal vakantiebraderieën met aansluitend vlomarkten. Deze worde
 n gehouden bij de sfeervolle brink met schaapskooi. Kom gezellig rondsnuff
 elen in de kramen met nieuwe en gebruikte spullen\, er is vast iets van uw
  gading bij. Of neem iets te eten of te drinken bij een van de foodkraampj
 es of op de terrassen van de plaatselijke horeca.
CATEGORIES:Markt / Braderie
LOCATION:Centrum Exloo\, Schoolstraat\, Exloo\, Drenthe\, Nederland
X-APPLE-STRUCTURED-LOCATION;VALUE=URI;X-ADDRESS=Schoolstraat\, Exloo\, Dren
 the\, Nederland;X-APPLE-RADIUS=100;X-TITLE=Centrum Exloo:geo:0,0
END:VEVENT
BEGIN:VTIMEZONE
TZID:Europe/Amsterdam
X-LIC-LOCATION:Europe/Amsterdam
BEGIN:DAYLIGHT
DTSTART:20190331T030000
TZOFFSETFROM:+0100
TZOFFSETTO:+0200
TZNAME:CEST
END:DAYLIGHT
END:VTIMEZONE
END:VCALENDAR