﻿BEGIN:VCALENDAR
VERSION:2.0
PRODID:-//wp-events-plugin.com//7.2.3.1//EN
TZID:Europe/Amsterdam
X-WR-TIMEZONE:Europe/Amsterdam
BEGIN:VEVENT
UID:850@bezoekhetnoorden.nl
DTSTART;TZID=Europe/Amsterdam:20180909T090000
DTEND;TZID=Europe/Amsterdam:20180909T180000
DTSTAMP:20180217T200111Z
URL:https://bezoekhetnoorden.nl/evenementen/tkp-tocht-groningen/
SUMMARY:TKP Tocht van Groningen
DESCRIPTION:Op Zondag 9 september 2018 zal de zevende editie van de TKP Toc
 ht van Groningen plaatsvinden.\n\nNaast De Tocht van Groningen\, +/-330 km
  langs de provinciegrenzen\, pijlen wij nog 4 afstanden: de tiende (+/-35k
 m)\, kwart (+/-80km)\, derde (+/-110 km) en de halve (+/- 160) Tocht van G
 roningen.\n\nNadat iedereen zijn sportieve uitdaging vervuld heeft\, staat
  er een heerlijke maaltijd klaar voor de hongerige deelnemers en zal een u
 itgebreid entertainmentprogramma ervoor zorgen dat het nog lang gezellig b
 lijft.
ATTACH;FMTTYPE=image/jpeg:https://bezoekhetnoorden.nl/new/wp-content/uploa
 ds/2018/02/tkp-tocht.jpg
CATEGORIES:Wielrennen
LOCATION:\, \, 
X-APPLE-STRUCTURED-LOCATION;VALUE=URI;X-ADDRESS=\, ;X-APPLE-RADIUS=100;X-TI
 TLE=:geo:0,0
END:VEVENT
BEGIN:VTIMEZONE
TZID:Europe/Amsterdam
X-LIC-LOCATION:Europe/Amsterdam
BEGIN:DAYLIGHT
DTSTART:20180325T030000
TZOFFSETFROM:+0100
TZOFFSETTO:+0200
TZNAME:CEST
END:DAYLIGHT
END:VTIMEZONE
END:VCALENDAR