﻿BEGIN:VCALENDAR
VERSION:2.0
PRODID:-//wp-events-plugin.com//7.2.3.1//EN
TZID:Europe/Amsterdam
X-WR-TIMEZONE:Europe/Amsterdam
BEGIN:VEVENT
UID:2163@bezoekhetnoorden.nl
DTSTART;TZID=Europe/Amsterdam:20240706T100000
DTEND;TZID=Europe/Amsterdam:20240706T170000
DTSTAMP:20240227T175508Z
URL:https://bezoekhetnoorden.nl/evenementen/supersaturday-kloosterveste-3/
SUMMARY:Supersaturday Kloosterveste
DESCRIPTION:In het winkelcentrum Kloosterveste\, in het hart van de nieuwst
 e wijk Kloosterveen in Assen worden een aantal braderieën gehouden. Kom g
 ezellig langs\, er is vast iets van uw gading te vinden. De toegang tot de
  markt en het parkeren in de parkeergarage onder het winkelcentrum is grat
 is. Meer informatie vindt u op huurkraam.nl
ATTACH;FMTTYPE=image/jpeg:https://bezoekhetnoorden.nl/new/wp-content/uploa
 ds/2024/02/Supersaturday-Kloosterveste.jpg
CATEGORIES:Markt / Braderie
LOCATION:Kloosterveste\, Rondgang\, Assen\, Drenthe\, Nederland
X-APPLE-STRUCTURED-LOCATION;VALUE=URI;X-ADDRESS=Rondgang\, Assen\, Drenthe\
 , Nederland;X-APPLE-RADIUS=100;X-TITLE=Kloosterveste:geo:0,0
END:VEVENT
BEGIN:VTIMEZONE
TZID:Europe/Amsterdam
X-LIC-LOCATION:Europe/Amsterdam
BEGIN:DAYLIGHT
DTSTART:20240331T030000
TZOFFSETFROM:+0100
TZOFFSETTO:+0200
TZNAME:CEST
END:DAYLIGHT
END:VTIMEZONE
END:VCALENDAR