﻿BEGIN:VCALENDAR
VERSION:2.0
PRODID:-//wp-events-plugin.com//7.2.3.1//EN
TZID:Europe/Amsterdam
X-WR-TIMEZONE:Europe/Amsterdam
BEGIN:VEVENT
UID:266@bezoekhetnoorden.nl
DTSTART;TZID=Europe/Amsterdam:20250526T170000
DTEND;TZID=Europe/Amsterdam:20250531T193000
DTSTAMP:20250101T113209Z
URL:https://bezoekhetnoorden.nl/evenementen/snikkeweek/
SUMMARY:Snikkeweek
DESCRIPTION:Snikkeweek Musselkanaal stelt zich ten doel om jaarlijks ter be
 vordering van de vaarrecreatie en de toerisme in de regio\, in Musselkanaa
 l een evenement met provinciale en grensoverschrijdende uitstraling te org
 aniseren.\n\nDeze doelstelling krijgt invulling door de jaarlijkse terugke
 rende feestelijke Snikkeweek in Musselkanaal.\n\nDit evenement krijgt met 
 name gestalte door culturele en feestelijke activiteiten welke rond de Sni
 kke “Diverdoatsie” worden georganiseerd\, waarbij op deze wijze wordt 
 getracht een bijdrage en impulsen te leveren aan de economie van het gebie
 d.\n\nMet “De Snikke” wordt bedoeld een replica van een snikke zoals d
 ie in het verleden veel te vinden waren in de Veenkoloniën om goederen en
  personen te vervoeren.\n\nEind jaren tachtig van de vorige eeuw werd die 
 replica van een Snikke als werklozenproject gebouwd in Stadskanaal. Zie oo
 k www.desnikke.nl\n\nDe Snikkeweek wordt altijd georganiseerd in de week w
 aarin Hemelsvaartdag valt.\n\nDe Snikkeweek staat jaarlijks in het teken v
 an elkaar (als (oud)schippers) ontmoeten met zang\, dans\, muziek en ander
 e evenementen.
ATTACH;FMTTYPE=image/jpeg:https://bezoekhetnoorden.nl/new/wp-content/uploa
 ds/2014/12/snikkeweek-1.jpg
CATEGORIES:Watersport
LOCATION:Centrum Musselkanaal\, Marktstraat\, Musselkanaal\, Groningen\, Ne
 derland
X-APPLE-STRUCTURED-LOCATION;VALUE=URI;X-ADDRESS=Marktstraat\, Musselkanaal\
 , Groningen\, Nederland;X-APPLE-RADIUS=100;X-TITLE=Centrum Musselkanaal:ge
 o:0,0
END:VEVENT
BEGIN:VTIMEZONE
TZID:Europe/Amsterdam
X-LIC-LOCATION:Europe/Amsterdam
BEGIN:DAYLIGHT
DTSTART:20250330T030000
TZOFFSETFROM:+0100
TZOFFSETTO:+0200
TZNAME:CEST
END:DAYLIGHT
END:VTIMEZONE
END:VCALENDAR