﻿BEGIN:VCALENDAR
VERSION:2.0
PRODID:-//wp-events-plugin.com//7.2.3.1//EN
TZID:Europe/Amsterdam
X-WR-TIMEZONE:Europe/Amsterdam
BEGIN:VEVENT
UID:1064@bezoekhetnoorden.nl
DTSTART;TZID=Europe/Amsterdam:20250705T183000
DTEND;TZID=Europe/Amsterdam:20250705T223000
DTSTAMP:20250204T215731Z
URL:https://bezoekhetnoorden.nl/evenementen/snikkerun-haulerwijk/
SUMMARY:Snikkerun Haulerwijk
DESCRIPTION:De Snikkerun is een hardloop evenement in Haulerwijk waar jong 
 en oud kan strijden om wie de snelste hardloper is. De wedstrijd wordt ond
 erverdeeld in verschillende leeftijds- en geslachtscategorieën namelijk d
 e 5 en 10 kilometer voor mannen en vrouwen. Kinderen tussen 10 en 16 lopen
  een afstand van 3 kilometer en voor de jongste kids zijn er speciale acti
 viteiten.
ATTACH;FMTTYPE=image/jpeg:https://bezoekhetnoorden.nl/new/wp-content/uploa
 ds/2018/03/Snikkerun-1.jpg
CATEGORIES:Hardlopen
LOCATION:Sportpark De Hichte\, Scheidingsreed 1\, Haulerwijk\, Friesland\, 
 Nederland
X-APPLE-STRUCTURED-LOCATION;VALUE=URI;X-ADDRESS=Scheidingsreed 1\, Haulerwi
 jk\, Friesland\, Nederland;X-APPLE-RADIUS=100;X-TITLE=Sportpark De Hichte:
 geo:0,0
END:VEVENT
BEGIN:VTIMEZONE
TZID:Europe/Amsterdam
X-LIC-LOCATION:Europe/Amsterdam
BEGIN:DAYLIGHT
DTSTART:20250330T030000
TZOFFSETFROM:+0100
TZOFFSETTO:+0200
TZNAME:CEST
END:DAYLIGHT
END:VTIMEZONE
END:VCALENDAR