﻿BEGIN:VCALENDAR
VERSION:2.0
PRODID:-//wp-events-plugin.com//7.2.3.1//EN
TZID:Europe/Amsterdam
X-WR-TIMEZONE:Europe/Amsterdam
BEGIN:VEVENT
UID:505@bezoekhetnoorden.nl
DTSTART;TZID=Europe/Amsterdam:20200718T140000
DTEND;TZID=Europe/Amsterdam:20200731T170000
DTSTAMP:20191229T160333Z
URL:https://bezoekhetnoorden.nl/evenementen/skutsjesilen-langweer/
SUMMARY:Skûtsjesilen Langweer
DESCRIPTION:Het SKS kampioenschap 2020 zal worden gehouden van zaterdag 18 
 juli t/m vrijdag 31 juli.\n\nAlle wedstrijden beginnen om 14.00 uur. Bij a
 lle wedstrijden wordt vanaf het wedstrijdwater toelichting gegeven over he
 t verloop van de wedstrijd. 
ATTACH;FMTTYPE=image/jpeg:https://bezoekhetnoorden.nl/new/wp-content/uploa
 ds/2017/07/skutsje.jpg
CATEGORIES:Watersport
LOCATION:Langweer\, Lnagweer\, Langweer\, Nederland
GEO:52.958370;5.723091
X-APPLE-STRUCTURED-LOCATION;VALUE=URI;X-ADDRESS=Lnagweer\, Langweer\, Neder
 land;X-APPLE-RADIUS=100;X-TITLE=Langweer:geo:52.958370,5.723091
END:VEVENT
BEGIN:VTIMEZONE
TZID:Europe/Amsterdam
X-LIC-LOCATION:Europe/Amsterdam
BEGIN:DAYLIGHT
DTSTART:20200329T030000
TZOFFSETFROM:+0100
TZOFFSETTO:+0200
TZNAME:CEST
END:DAYLIGHT
END:VTIMEZONE
END:VCALENDAR