﻿BEGIN:VCALENDAR
VERSION:2.0
PRODID:-//wp-events-plugin.com//7.2.3.1//EN
TZID:Europe/Amsterdam
X-WR-TIMEZONE:Europe/Amsterdam
BEGIN:VEVENT
UID:1184@bezoekhetnoorden.nl
DTSTART;TZID=Europe/Amsterdam:20191103T133000
DTEND;TZID=Europe/Amsterdam:20191103T150000
DTSTAMP:20190217T140747Z
URL:https://bezoekhetnoorden.nl/evenementen/seizoenswandeling-op-zondag-35
 /
SUMMARY:Seizoenswandeling op zondag
DESCRIPTION:Kom naar Buitencentrum Boomkroonpad voor een fijne wandeling ov
 er de Hondsrug. De gids van Staatsbosbeheer neemt je graag mee op pad en
  laat allerlei wetenswaardigheden zien van het bos. Door het jaar heen zij
 n er op zondag wandelingen met op elke 3e zondag van de maand een thema d
 at past bij het seizoen.\n\nKleed je op het weer en trek stevige schoenen 
 aan. Honden zijn niet toegestaan.
ATTACH;FMTTYPE=image/jpeg:https://bezoekhetnoorden.nl/new/wp-content/uploa
 ds/2017/10/hondsrug-sleenerzand.jpg
CATEGORIES:Wandelen
LOCATION:\, \, 
X-APPLE-STRUCTURED-LOCATION;VALUE=URI;X-ADDRESS=\, ;X-APPLE-RADIUS=100;X-TI
 TLE=:geo:0,0
END:VEVENT
BEGIN:VTIMEZONE
TZID:Europe/Amsterdam
X-LIC-LOCATION:Europe/Amsterdam
BEGIN:STANDARD
DTSTART:20191027T020000
TZOFFSETFROM:+0200
TZOFFSETTO:+0100
TZNAME:CET
END:STANDARD
END:VTIMEZONE
END:VCALENDAR