﻿BEGIN:VCALENDAR
VERSION:2.0
PRODID:-//wp-events-plugin.com//7.2.3.1//EN
TZID:Europe/Amsterdam
X-WR-TIMEZONE:Europe/Amsterdam
BEGIN:VEVENT
UID:841@bezoekhetnoorden.nl
DTSTART;TZID=Europe/Amsterdam:20190623T133000
DTEND;TZID=Europe/Amsterdam:20190623T150000
DTSTAMP:20190217T133353Z
URL:https://bezoekhetnoorden.nl/evenementen/seizoenswandeling-op-zondag-17
 /
SUMMARY:Seizoenswandeling op zondag
DESCRIPTION:Kom naar Buitencentrum Boomkroonpad voor een fijne wandeling ov
 er de Hondsrug. De gids van Staatsbosbeheer neemt je graag mee op pad en
  laat allerlei wetenswaardigheden zien van het bos. Door het jaar heen zij
 n er op zondag wandelingen met op elke 3e zondag van de maand een thema d
 at past bij het seizoen.\n\nKleed je op het weer en trek stevige schoenen 
 aan. Honden zijn niet toegestaan.
ATTACH;FMTTYPE=image/jpeg:https://bezoekhetnoorden.nl/new/wp-content/uploa
 ds/2017/10/hondsrug-sleenerzand.jpg
CATEGORIES:Wandelen
LOCATION:\, \, 
X-APPLE-STRUCTURED-LOCATION;VALUE=URI;X-ADDRESS=\, ;X-APPLE-RADIUS=100;X-TI
 TLE=:geo:0,0
END:VEVENT
BEGIN:VTIMEZONE
TZID:Europe/Amsterdam
X-LIC-LOCATION:Europe/Amsterdam
BEGIN:DAYLIGHT
DTSTART:20190331T030000
TZOFFSETFROM:+0100
TZOFFSETTO:+0200
TZNAME:CEST
END:DAYLIGHT
END:VTIMEZONE
END:VCALENDAR