﻿BEGIN:VCALENDAR
VERSION:2.0
PRODID:-//wp-events-plugin.com//7.2.3.1//EN
TZID:Europe/Amsterdam
X-WR-TIMEZONE:Europe/Amsterdam
BEGIN:VEVENT
UID:944@bezoekhetnoorden.nl
DTSTART;TZID=Europe/Amsterdam:20190929T113000
DTEND;TZID=Europe/Amsterdam:20190929T153000
DTSTAMP:20190219T212326Z
URL:https://bezoekhetnoorden.nl/evenementen/schutrups-run-exloo/
SUMMARY:Schutrups Run Exloo
DESCRIPTION:SchutrupsRun\, Exloo \n\nBosloop\, voornamelijk onverhard door 
 de bossen van Exloo. Keuze uit \n5\, 10 en 15km\,\ntevens een Jeugdloop va
 n 1 en 2 km.
ATTACH;FMTTYPE=image/jpeg:https://bezoekhetnoorden.nl/new/wp-content/uploa
 ds/2018/02/run-exloo.jpg
CATEGORIES:Hardlopen
LOCATION:\, \, 
X-APPLE-STRUCTURED-LOCATION;VALUE=URI;X-ADDRESS=\, ;X-APPLE-RADIUS=100;X-TI
 TLE=:geo:0,0
END:VEVENT
BEGIN:VTIMEZONE
TZID:Europe/Amsterdam
X-LIC-LOCATION:Europe/Amsterdam
BEGIN:DAYLIGHT
DTSTART:20190331T030000
TZOFFSETFROM:+0100
TZOFFSETTO:+0200
TZNAME:CEST
END:DAYLIGHT
END:VTIMEZONE
END:VCALENDAR