﻿BEGIN:VCALENDAR
VERSION:2.0
PRODID:-//wp-events-plugin.com//7.2.3.1//EN
TZID:Europe/Amsterdam
X-WR-TIMEZONE:Europe/Amsterdam
BEGIN:VEVENT
UID:705@bezoekhetnoorden.nl
DTSTART;TZID=Europe/Amsterdam:20190209T103000
DTEND;TZID=Europe/Amsterdam:20190209T150000
DTSTAMP:20180923T151732Z
URL:https://bezoekhetnoorden.nl/evenementen/runforestrun-dwingelderveld/
SUMMARY:RUNFORESTRUN Dwingelderveld
DESCRIPTION:De RUNFORESTRUN Dwingelderveld doorkruist het bijna 4000 hectar
 e grote nat heidegebied in het zuidwesten van Drenthe dat een vrijwel onge
 stoorde horizon kent. Het gebied is uniek omdat het ‘t grootste aaneenge
 sloten natte heidegebied is van West-Europa is en Schitterend vanwege de z
 acht glooiende heidevelden met plassen en vennetjes\, bos\, en stuifzand. 
 Het gebied kent veel vennen en veenmoerasjes.\n\nprijzen zie website
ATTACH;FMTTYPE=image/jpeg:https://bezoekhetnoorden.nl/new/wp-content/uploa
 ds/2018/01/RUNFORESTRUN-Dwingelderveld.jpg
CATEGORIES:Hardlopen
LOCATION:\, \, 
X-APPLE-STRUCTURED-LOCATION;VALUE=URI;X-ADDRESS=\, ;X-APPLE-RADIUS=100;X-TI
 TLE=:geo:0,0
END:VEVENT
BEGIN:VTIMEZONE
TZID:Europe/Amsterdam
X-LIC-LOCATION:Europe/Amsterdam
BEGIN:STANDARD
DTSTART:20181028T020000
TZOFFSETFROM:+0200
TZOFFSETTO:+0100
TZNAME:CET
END:STANDARD
END:VTIMEZONE
END:VCALENDAR