﻿BEGIN:VCALENDAR
VERSION:2.0
PRODID:-//wp-events-plugin.com//7.2.3.1//EN
TZID:Europe/Amsterdam
X-WR-TIMEZONE:Europe/Amsterdam
BEGIN:VEVENT
UID:1443@bezoekhetnoorden.nl
DTSTART;TZID=Europe/Amsterdam:20190719T193000
DTEND;TZID=Europe/Amsterdam:20190719T213000
DTSTAMP:20181230T164808Z
URL:https://bezoekhetnoorden.nl/evenementen/roeireddingboot-met-paarden/
SUMMARY:Roeireddingboot met paarden
DESCRIPTION:In de zomer van 2019 zullen op Terschelling weer spectaculaire 
 demonstraties gegeven worden met de klassieke roeireddingboot 'Secretaris 
 Schumacher'. Een tienspan Friese paarden trekt de lanceerwagen door de dui
 nen en over het strand. Bij goed weer en mits de branding niet te gevaarli
 jk is volgt er een lancering in zee.
ATTACH;FMTTYPE=image/jpeg:https://bezoekhetnoorden.nl/new/wp-content/uploa
 ds/2018/12/roeireddingboot-met-paarden.jpg
CATEGORIES:Paardensport
LOCATION:\, \, 
X-APPLE-STRUCTURED-LOCATION;VALUE=URI;X-ADDRESS=\, ;X-APPLE-RADIUS=100;X-TI
 TLE=:geo:0,0
END:VEVENT
BEGIN:VTIMEZONE
TZID:Europe/Amsterdam
X-LIC-LOCATION:Europe/Amsterdam
BEGIN:DAYLIGHT
DTSTART:20190331T030000
TZOFFSETFROM:+0100
TZOFFSETTO:+0200
TZNAME:CEST
END:DAYLIGHT
END:VTIMEZONE
END:VCALENDAR