﻿BEGIN:VCALENDAR
VERSION:2.0
PRODID:-//wp-events-plugin.com//7.2.3.1//EN
TZID:Europe/Amsterdam
X-WR-TIMEZONE:Europe/Amsterdam
BEGIN:VEVENT
UID:2041@bezoekhetnoorden.nl
DTSTART;TZID=Europe/Amsterdam:20200730T110000
DTEND;TZID=Europe/Amsterdam:20200730T170000
DTSTAMP:20200224T180207Z
URL:https://bezoekhetnoorden.nl/evenementen/reuzenmarkt-bij-openluchtmuseu
 m-ellert-en-brammert-in-schoonoord-3/
SUMMARY:Reuzenmarkt bij openluchtmuseum Ellert en Brammert in Schoonoord
DESCRIPTION:Op het terrein van het openluchtmuseum Ellert en Brammert in Sc
 hoonoord worden in de zomerperiode een aantal Reuzenmarkten georganiseerd.
  Kom gezellig rondsnuffelen in de kramen met nieuwe en gebruikte spullen\,
  er is vast iets van uw gading bij. Of neem iets te eten of te drinken bij
  een van de foodkramen. De toegang tot de markt is geheel gratis\, evenals
  het parkeren. Meer informatie vindt u op https://www.marktenindrenthe.nl
ATTACH;FMTTYPE=image/jpeg:https://bezoekhetnoorden.nl/new/wp-content/uploa
 ds/2019/07/Reuzenmarkt.jpg
CATEGORIES:Markt / Braderie
LOCATION:\, \, 
X-APPLE-STRUCTURED-LOCATION;VALUE=URI;X-ADDRESS=\, ;X-APPLE-RADIUS=100;X-TI
 TLE=:geo:0,0
END:VEVENT
BEGIN:VTIMEZONE
TZID:Europe/Amsterdam
X-LIC-LOCATION:Europe/Amsterdam
BEGIN:DAYLIGHT
DTSTART:20200329T030000
TZOFFSETFROM:+0100
TZOFFSETTO:+0200
TZNAME:CEST
END:DAYLIGHT
END:VTIMEZONE
END:VCALENDAR