﻿BEGIN:VCALENDAR
VERSION:2.0
PRODID:-//wp-events-plugin.com//7.2.3.1//EN
TZID:Europe/Amsterdam
X-WR-TIMEZONE:Europe/Amsterdam
BEGIN:VEVENT
UID:1716@bezoekhetnoorden.nl
DTSTART;TZID=Europe/Amsterdam:20190525T084500
DTEND;TZID=Europe/Amsterdam:20190525T160000
DTSTAMP:20190317T131031Z
URL:https://bezoekhetnoorden.nl/evenementen/refaja-fietst/
SUMMARY:Refaja Fietst
DESCRIPTION:Op zaterdag 25 mei a.s. organiseren een aantal enthousiaste med
 ewerkers van Treant zorggroep locatie Refaja voor het 8e jaar op rij de on
 dertussen zeer bekende en succesvolle fietstocht voor zowel toerfietsers\,
  mountainbikers als wielrenners.\nDeelname staat open voor alle Treant-med
 ewerkers en belangstellenden.\n\nFietsroutes\nDe routes voeren ons deze ke
 er rondom Gieten.\nToerfietsers kunnen 40 of 60 km fietsen\, wielrenners 6
 0\, 80 of 100 km \; mountainbikers fietsen 60 km.\nVoor de wielrenners en 
 toerfietsers worden de routes volledig uitgepijld ( voor mountainbikers af
 hankelijk van het aantal deelnemers )\n\nOp de dag zelf kunt u bepalen hoe
 veel kilometer u wilt fietsen.\nNa uw inschrijving en betaling ontvangt u 
 een e-mail ter bevestiging van deelname. Deze bevestiging is tevens uw sta
 rtbewijs op 25 mei.\n\nHet inschrijfgeld bedraagt bij voorinschrijving via
  de website €10\,00 voor volwassenen en € 5.00 voor kinderen van 12 to
 t 16 jaar. Kinderen tot en met  11 jaar kunnen gratis meefietsen.\nTevens 
 bestaat de mogelijkheid zich in te schrijven op 25 mei bij de start in te 
 schrijven\, de kosten zijn dan € 12\,50 voor volwassenen en € 7\,50 vo
 or kinderen tussen 12 en 16 jaar.\n\nMet de deelnamekosten sponsoren we Ju
 lians Stichting.\n(Opgave betekend meedoen\, restitutie is niet mogelijk )
ATTACH;FMTTYPE=image/jpeg:https://bezoekhetnoorden.nl/new/wp-content/uploa
 ds/2019/03/Refaja-Fietst.jpg
CATEGORIES:Fietsen
LOCATION:\, \, 
X-APPLE-STRUCTURED-LOCATION;VALUE=URI;X-ADDRESS=\, ;X-APPLE-RADIUS=100;X-TI
 TLE=:geo:0,0
END:VEVENT
BEGIN:VTIMEZONE
TZID:Europe/Amsterdam
X-LIC-LOCATION:Europe/Amsterdam
BEGIN:DAYLIGHT
DTSTART:20190331T030000
TZOFFSETFROM:+0100
TZOFFSETTO:+0200
TZNAME:CEST
END:DAYLIGHT
END:VTIMEZONE
END:VCALENDAR