﻿BEGIN:VCALENDAR
VERSION:2.0
PRODID:-//wp-events-plugin.com//7.2.3.1//EN
TZID:Europe/Amsterdam
X-WR-TIMEZONE:Europe/Amsterdam
BEGIN:VEVENT
UID:1779@bezoekhetnoorden.nl
DTSTART;TZID=Europe/Amsterdam:20190406T150000
DTEND;TZID=Europe/Amsterdam:20190406T180000
DTSTAMP:20190331T134304Z
URL:https://bezoekhetnoorden.nl/evenementen/raitdaiprun/
SUMMARY:Raitdaiprun
DESCRIPTION:6 April 2019 organiseert loopgroep de RaitdaipRunners haar eige
 n loop\, de RaitdaipRun. Er zijn drie afstanden te lopen\, nl.  5 km\, 10 
 km en 10 mijl. De loop voert door het mooie Reitdiepdal en het dorp Sauwer
 d.  \n\nOok de jeugd (t/m 17 jaar) wordt van harte uitgenodigd deel te nem
 en. Voor iedere loper is er na afloop altijd een mooie herinnering. De run
  begint om 16.00 uur. Daarnaast kunnen de kinderen vanaf 15.00 deel nemen 
 aan de kidsrun 
ATTACH;FMTTYPE=image/jpeg:https://bezoekhetnoorden.nl/new/wp-content/uploa
 ds/2019/03/Raitdaiprun.jpg
CATEGORIES:Hardlopen
LOCATION:\, \, 
X-APPLE-STRUCTURED-LOCATION;VALUE=URI;X-ADDRESS=\, ;X-APPLE-RADIUS=100;X-TI
 TLE=:geo:0,0
END:VEVENT
BEGIN:VTIMEZONE
TZID:Europe/Amsterdam
X-LIC-LOCATION:Europe/Amsterdam
BEGIN:DAYLIGHT
DTSTART:20190331T030000
TZOFFSETFROM:+0100
TZOFFSETTO:+0200
TZNAME:CEST
END:DAYLIGHT
END:VTIMEZONE
END:VCALENDAR