﻿BEGIN:VCALENDAR
VERSION:2.0
PRODID:-//wp-events-plugin.com//7.2.3.1//EN
TZID:Europe/Amsterdam
X-WR-TIMEZONE:Europe/Amsterdam
BEGIN:VEVENT
UID:550@bezoekhetnoorden.nl
DTSTART;TZID=Europe/Amsterdam:20200905T193000
DTEND;TZID=Europe/Amsterdam:20200905T220000
DTSTAMP:20191025T174318Z
URL:https://bezoekhetnoorden.nl/evenementen/pura-vida/
SUMMARY:Pura Vida
DESCRIPTION:Pura Vida is ieder jaar weer een groot succes. Bezoekers met pi
 cknickmandjes en zelf meegenomen wijn nestelen zich aan de rand van het Ol
 dambtmeer. Tijdens het openluchtconcert verdwijnt de langzaam van kleur ve
 randerende\, ondergaande zon in de loop van de avond achter het prachtig v
 erlichte transparante podium. De tientallen bootjes op het water maken het
  beeld meer dan compleet. Vorig jaar genoten maar liefst 10.000 bezoekers 
 van het Rolling Stones-concert van het NNO aan de oevers van het Oldambtme
 er. Dit jaar staat Queen op het programma! \n\nGratis toegang\nHet gratis 
 toegankelijke concert begint zaterdagavond 5 september om 19.30 uur en de 
 hits blijven klinken tot ongeveer 22.00 uur. Wie met de boot wil komen\, k
 an aanleggen op een steenworp afstand van het podium. Voor bezoekers aan d
 e oever zijn voor een klein bedrag stoelen te huur of neem gerust je eigen
  stoel mee. Kom op tijd vanwege de te verwachten drukte!
ATTACH;FMTTYPE=image/jpeg:https://bezoekhetnoorden.nl/new/wp-content/uploa
 ds/2017/08/PuraVida.jpg
CATEGORIES:Muziek
LOCATION:\, \, 
X-APPLE-STRUCTURED-LOCATION;VALUE=URI;X-ADDRESS=\, ;X-APPLE-RADIUS=100;X-TI
 TLE=:geo:0,0
END:VEVENT
BEGIN:VTIMEZONE
TZID:Europe/Amsterdam
X-LIC-LOCATION:Europe/Amsterdam
BEGIN:DAYLIGHT
DTSTART:20200329T030000
TZOFFSETFROM:+0100
TZOFFSETTO:+0200
TZNAME:CEST
END:DAYLIGHT
END:VTIMEZONE
END:VCALENDAR