﻿BEGIN:VCALENDAR
VERSION:2.0
PRODID:-//wp-events-plugin.com//7.2.3.1//EN
TZID:Europe/Amsterdam
X-WR-TIMEZONE:Europe/Amsterdam
BEGIN:VEVENT
UID:1815@bezoekhetnoorden.nl
DTSTART;TZID=Europe/Amsterdam:20190513T100000
DTEND;TZID=Europe/Amsterdam:20191117T170000
DTSTAMP:20190514T164539Z
URL:https://bezoekhetnoorden.nl/evenementen/power-vrouwen-beeldenexpositie
 /
SUMMARY:Power vrouwen beeldenexpositie
DESCRIPTION:In de tuinen van havezate De Havixhorst\, lommerrijk gelegen tu
 ssen De Wijk en Meppel in Zuidwest-Drenthe\, is een bijzondere verzameling
  beelden te zien. Naast de vaste collectie beelden is er elk jaar een wiss
 elende expositie. \n\nVanaf mei 2019 is er een tentoonstelling over drie p
 owervrouwen in de beeldhouwkunst. Vrouwen die zich staande hielden en houd
 en in een door mannen gedomineerde wereld van de beeldhouwkunst: Charlotte
  van Pallandt\, Maja van Hall en Eja Siepman ven den Berg. \n\nEen tentoon
 stelling waarin het werk van deze drie vrouwen\, die elkaar goed kenden en
  een sterke verbondenheid met elkaar hadden\, bijeengebracht is. Het zal d
 e verwantschappen\, maar ook de verschillen tonen. \n\nHet beeldenpark is 
 gratis toegankelijk en dagelijks geopend van 10.00 tot 17.00 uur. De tuin 
 is het hele jaar open en ademt ieder seizoen een andere sfeer.\n
ATTACH;FMTTYPE=image/jpeg:https://bezoekhetnoorden.nl/new/wp-content/uploa
 ds/2019/05/Cover-kleur.jpg
CATEGORIES:Expositie
LOCATION:\, \, 
X-APPLE-STRUCTURED-LOCATION;VALUE=URI;X-ADDRESS=\, ;X-APPLE-RADIUS=100;X-TI
 TLE=:geo:0,0
END:VEVENT
BEGIN:VTIMEZONE
TZID:Europe/Amsterdam
X-LIC-LOCATION:Europe/Amsterdam
BEGIN:DAYLIGHT
DTSTART:20190331T030000
TZOFFSETFROM:+0100
TZOFFSETTO:+0200
TZNAME:CEST
END:DAYLIGHT
BEGIN:STANDARD
DTSTART:20191027T020000
TZOFFSETFROM:+0200
TZOFFSETTO:+0100
TZNAME:CET
END:STANDARD
END:VTIMEZONE
END:VCALENDAR