﻿BEGIN:VCALENDAR
VERSION:2.0
PRODID:-//wp-events-plugin.com//7.2.3.1//EN
TZID:Europe/Amsterdam
X-WR-TIMEZONE:Europe/Amsterdam
BEGIN:VEVENT
UID:1739@bezoekhetnoorden.nl
DTSTART;TZID=Europe/Amsterdam:20190818T070000
DTEND;TZID=Europe/Amsterdam:20190818T100000
DTSTAMP:20190718T173444Z
URL:https://bezoekhetnoorden.nl/evenementen/pluk-de-dag/
SUMMARY:Pluk de dag!
DESCRIPTION:Deze activiteit organiseert Het Drentse Landschap in samenwerki
 ng met Wildplukster Olga: Yogadocent Marijke Bennink en wildplukster Olga 
 verzorgen een meditatieve ochtendwandeling in combinatie met wildplukken i
 n het mooie Reestdal. \n\nBeleef tijdens de yogaoefeningen de vredige atmo
 sfeer in de vroege ochtend\, als de levensenergie nog in zijn puurste vorm
  aanwezig is. Geniet van de stilte\, hoor de vogels en spot reeën. En ont
 dek de eetbare natuur: heel veel bloemen\, bladeren\, bessen e.d. zijn eet
 baar\, alleen weten we dit niet omdat we steeds verder van de natuur af ko
 men te staan. Stel je open en ‘Pluk de dag’!\n\nNa de wandeling\, waar
 bij we onze zintuigen op allerlei manieren hebben geprikkeld (horen\, zien
 \, ruiken\, proeven)\, staat een lekker ontbijtje klaar. We zetten er thee
  bij van onze eigen wildpluk en je kunt proeven van diverse gerechtjes uit
  de natuur.\nN.B. bij slecht weer doen we de yoga binnen in het informatie
 centrum. \n\nAanmelden verplicht \nKosten:zijn incl.ontbijt\nMeenemen: bad
 handdoek en (indien mogelijk) eigen yoga mat.\n
ATTACH;FMTTYPE=image/jpeg:https://bezoekhetnoorden.nl/new/wp-content/uploa
 ds/2014/11/32-reest-2009-JvdM-1-e1553011378486.jpg
CATEGORIES:Arrangement
LOCATION:\, \, 
X-APPLE-STRUCTURED-LOCATION;VALUE=URI;X-ADDRESS=\, ;X-APPLE-RADIUS=100;X-TI
 TLE=:geo:0,0
END:VEVENT
BEGIN:VTIMEZONE
TZID:Europe/Amsterdam
X-LIC-LOCATION:Europe/Amsterdam
BEGIN:DAYLIGHT
DTSTART:20190331T030000
TZOFFSETFROM:+0100
TZOFFSETTO:+0200
TZNAME:CEST
END:DAYLIGHT
END:VTIMEZONE
END:VCALENDAR