﻿BEGIN:VCALENDAR
VERSION:2.0
PRODID:-//wp-events-plugin.com//7.2.3.1//EN
TZID:Europe/Amsterdam
X-WR-TIMEZONE:Europe/Amsterdam
BEGIN:VEVENT
UID:1708@bezoekhetnoorden.nl
DTSTART;TZID=Europe/Amsterdam:20190610T133000
DTEND;TZID=Europe/Amsterdam:20190610T150000
DTSTAMP:20190310T190407Z
URL:https://bezoekhetnoorden.nl/evenementen/pinksterwandeling-2/
SUMMARY:Pinksterwandeling
DESCRIPTION:Ga met Pinksteren met het hele gezin naar buiten en wandel mee 
 over de Hondsrug. Deze wandeling voert door de bossen en langs heidevelden
  en vennen\, die er in deze tijd van het jaar prachtig uitzien. \n\nOnderw
 eg vertelt de gids van Staatsbosbeheer je alles over de bomen\, de planten
 \, de dieren en de vogels die je tegenkomt.\n\nTrek stevige schoenen aan\n
 De wandeling is niet geschikt voor mindervaliden en kinderwagens vanwege o
 nverharde paden\nHonden niet toegestaan
ATTACH;FMTTYPE=image/jpeg:https://bezoekhetnoorden.nl/new/wp-content/uploa
 ds/2019/03/Pinksterwandeling.jpg
CATEGORIES:Wandelen
LOCATION:\, \, 
X-APPLE-STRUCTURED-LOCATION;VALUE=URI;X-ADDRESS=\, ;X-APPLE-RADIUS=100;X-TI
 TLE=:geo:0,0
END:VEVENT
BEGIN:VTIMEZONE
TZID:Europe/Amsterdam
X-LIC-LOCATION:Europe/Amsterdam
BEGIN:DAYLIGHT
DTSTART:20190331T030000
TZOFFSETFROM:+0100
TZOFFSETTO:+0200
TZNAME:CEST
END:DAYLIGHT
END:VTIMEZONE
END:VCALENDAR