﻿BEGIN:VCALENDAR
VERSION:2.0
PRODID:-//wp-events-plugin.com//7.2.3.1//EN
TZID:Europe/Amsterdam
X-WR-TIMEZONE:Europe/Amsterdam
BEGIN:VEVENT
UID:1411@bezoekhetnoorden.nl
DTSTART;TZID=Europe/Amsterdam:20190422T090000
DTEND;TZID=Europe/Amsterdam:20190422T160000
DTSTAMP:20181109T211518Z
URL:https://bezoekhetnoorden.nl/evenementen/pasen-in-het-park/
SUMMARY:Pasen in het park
DESCRIPTION:Pasen in het park 2019!\n* Eieren zoeken\n* Warme chocolademelk
 \n* Paasbrunch\n* Neuties schietn\n* Stokbroodjes/Marshmellows bakken\n\nE
 n nog veel meer!\n\nPaaseieren zoeken is van 10.00 tot 12.00\nBrunch van 1
 2.00 tot 13.30\nNeuties schietn 13.30 tot 17.00\n\nArtiest nodig of iets l
 euks organiseren?\nOnze vereniging telt landelijk een paar duizend artiest
  leden\, dus de keuze is reuze!
ATTACH;FMTTYPE=image/jpeg:https://bezoekhetnoorden.nl/new/wp-content/uploa
 ds/2018/11/pasen-in-het-park.jpg
CATEGORIES:Pasen
LOCATION:\, \, 
X-APPLE-STRUCTURED-LOCATION;VALUE=URI;X-ADDRESS=\, ;X-APPLE-RADIUS=100;X-TI
 TLE=:geo:0,0
END:VEVENT
BEGIN:VTIMEZONE
TZID:Europe/Amsterdam
X-LIC-LOCATION:Europe/Amsterdam
BEGIN:DAYLIGHT
DTSTART:20190331T030000
TZOFFSETFROM:+0100
TZOFFSETTO:+0200
TZNAME:CEST
END:DAYLIGHT
END:VTIMEZONE
END:VCALENDAR