﻿BEGIN:VCALENDAR
VERSION:2.0
PRODID:-//wp-events-plugin.com//7.2.3.1//EN
TZID:Europe/Amsterdam
X-WR-TIMEZONE:Europe/Amsterdam
BEGIN:VEVENT
UID:1721@bezoekhetnoorden.nl
DTSTART;TZID=Europe/Amsterdam:20190525T110000
DTEND;TZID=Europe/Amsterdam:20190525T160000
DTSTAMP:20190317T141856Z
URL:https://bezoekhetnoorden.nl/evenementen/parkwijkdag/
SUMMARY:Parkwijkdag
DESCRIPTION:Op zaterdag 25 mei 2019 is er een Parkwijkdag georganiseerd waa
 rbij er een gezellige markt en een open podium in de muziek koepel is. Opg
 ave voor de markt kunt u doorgeven via parkwijk@stadskanaal.nl. Muziek voo
 r op het open podium kunt u doorgeven via gertjanopdekoffie@gmail.com\n
ATTACH;FMTTYPE=image/jpeg:https://bezoekhetnoorden.nl/new/wp-content/uploa
 ds/2019/03/parkwijk.jpg
CATEGORIES:Markt / Braderie
LOCATION:\, \, 
X-APPLE-STRUCTURED-LOCATION;VALUE=URI;X-ADDRESS=\, ;X-APPLE-RADIUS=100;X-TI
 TLE=:geo:0,0
END:VEVENT
BEGIN:VTIMEZONE
TZID:Europe/Amsterdam
X-LIC-LOCATION:Europe/Amsterdam
BEGIN:DAYLIGHT
DTSTART:20190331T030000
TZOFFSETFROM:+0100
TZOFFSETTO:+0200
TZNAME:CEST
END:DAYLIGHT
END:VTIMEZONE
END:VCALENDAR