﻿BEGIN:VCALENDAR
VERSION:2.0
PRODID:-//wp-events-plugin.com//7.2.3.1//EN
TZID:Europe/Amsterdam
X-WR-TIMEZONE:Europe/Amsterdam
BEGIN:VEVENT
UID:600@bezoekhetnoorden.nl
DTSTART;TZID=Europe/Amsterdam:20181014T110000
DTEND;TZID=Europe/Amsterdam:20181014T170000
DTSTAMP:20180923T134401Z
URL:https://bezoekhetnoorden.nl/evenementen/paddenstoelenfestival/
SUMMARY:Paddenstoelenfestival
DESCRIPTION:Kom jij ook paddenstoelen zoeken? Neem je papa\, mama\, opa en 
 oma mee. Je kunt deelnemen aan allerlei leuke activiteiten\, zoals:\n\nPad
 denstoelen zoeken\nPaddenstoelen excursie met gids\nEen speciaal theaterfe
 stival voor kinderen met verhalenvertellers.\nBosschilderijen maken\nVoor 
 de allerkleinsten is er een speciale paddenstoelenknutseltent en een kabou
 terpad.\nKinderen die verkleed als prins of prinses\, lakei of koning kome
 n\, kunnen worden geschminkt.
ATTACH;FMTTYPE=image/jpeg:https://bezoekhetnoorden.nl/new/wp-content/uploa
 ds/2017/10/Paddenstoelenfestival.jpg
CATEGORIES:Kinderactiviteit
LOCATION:\, \, 
X-APPLE-STRUCTURED-LOCATION;VALUE=URI;X-ADDRESS=\, ;X-APPLE-RADIUS=100;X-TI
 TLE=:geo:0,0
END:VEVENT
BEGIN:VTIMEZONE
TZID:Europe/Amsterdam
X-LIC-LOCATION:Europe/Amsterdam
BEGIN:DAYLIGHT
DTSTART:20180325T030000
TZOFFSETFROM:+0100
TZOFFSETTO:+0200
TZNAME:CEST
END:DAYLIGHT
END:VTIMEZONE
END:VCALENDAR