﻿BEGIN:VCALENDAR
VERSION:2.0
PRODID:-//wp-events-plugin.com//7.2.3.1//EN
TZID:Europe/Amsterdam
X-WR-TIMEZONE:Europe/Amsterdam
BEGIN:VEVENT
UID:1689@bezoekhetnoorden.nl
DTSTART;TZID=Europe/Amsterdam:20190316T140000
DTEND;TZID=Europe/Amsterdam:20190316T170000
DTSTAMP:20190310T095648Z
URL:https://bezoekhetnoorden.nl/evenementen/open-dag-holtingerhof/
SUMMARY:Open dag Holtingerhof
DESCRIPTION:Zaterdag 16 maart houdt locatie Holtingerhof een Open Dag van 1
 4:00 tot 17:00. U kunt allerlei informatie ontvangen over de appartementen
  en wat locatie Holtingerhof nog meer te bieden heeft. Tevens zijn er een 
 aantal workshops zoals: stempelen\, handbelettering en inkleuren. U kunt o
 ok genieten van een proeverij en voor de kinderen is er ook veel te beleve
 n. Er komt een schminker\, een ballonnenentertainer en er is een popcornma
 chine. U bent van harte welkom!\n
ATTACH;FMTTYPE=image/jpeg:https://bezoekhetnoorden.nl/new/wp-content/uploa
 ds/2019/03/Holtingerhof.jpg
CATEGORIES:Open dag
LOCATION:\, \, 
X-APPLE-STRUCTURED-LOCATION;VALUE=URI;X-ADDRESS=\, ;X-APPLE-RADIUS=100;X-TI
 TLE=:geo:0,0
END:VEVENT
BEGIN:VTIMEZONE
TZID:Europe/Amsterdam
X-LIC-LOCATION:Europe/Amsterdam
BEGIN:STANDARD
DTSTART:20181028T020000
TZOFFSETFROM:+0200
TZOFFSETTO:+0100
TZNAME:CET
END:STANDARD
END:VTIMEZONE
END:VCALENDAR