﻿BEGIN:VCALENDAR
VERSION:2.0
PRODID:-//wp-events-plugin.com//7.2.3.1//EN
TZID:Europe/Amsterdam
X-WR-TIMEZONE:Europe/Amsterdam
BEGIN:VEVENT
UID:1568@bezoekhetnoorden.nl
DTSTART;TZID=Europe/Amsterdam:20190420T170000
DTEND;TZID=Europe/Amsterdam:20190420T210000
DTSTAMP:20190221T105844Z
URL:https://bezoekhetnoorden.nl/evenementen/op-zoek-naar-de-grote-vijf-op-
 de-hondsrug-ree-2/
SUMMARY:Op zoek naar De Grote Vijf op de Hondsrug - ree
DESCRIPTION:Speur met de boswachter naar de reeën van de Hondsrug: na ontv
 angst stap je in een van de volledig elektrisch aangedreven terreinauto's.
  Uniek is dat je deze terreinauto's zelf gaat besturen\, mits je 21 bent e
 n een geldig rijbewijs hebt. \n\nSamen rijd je naar een plek in de natuur\
 , waar een stevige huisgemaakte soep en oerbrood met kaas en vlees voor je
  klaar staat. Tijdens de maaltijd vertelt de boswachter je over over de na
 tuur op de Hondsrug. Na het eten trek je verder door boswachterij Exloo. V
 anuit de stoere geruisloze auto's heb je grote kans op het zien van wild. 
 Onderweg stop je een aantal keer en vertelt de boswachter je alles over he
 t leven van het ree en hoe je kunt zien of er reeën in de buurt zijn. \n\
 n Na afloop van de safari brandt het kampvuur\, en is er een moment om all
 e ervaringen te delen. Je ontvangt dan ook het Grote Vijf-paspoort en een 
 dierenpin van het ree.
CATEGORIES:Excursie
LOCATION:\, \, 
X-APPLE-STRUCTURED-LOCATION;VALUE=URI;X-ADDRESS=\, ;X-APPLE-RADIUS=100;X-TI
 TLE=:geo:0,0
END:VEVENT
BEGIN:VTIMEZONE
TZID:Europe/Amsterdam
X-LIC-LOCATION:Europe/Amsterdam
BEGIN:DAYLIGHT
DTSTART:20190331T030000
TZOFFSETFROM:+0100
TZOFFSETTO:+0200
TZNAME:CEST
END:DAYLIGHT
END:VTIMEZONE
END:VCALENDAR