﻿BEGIN:VCALENDAR
VERSION:2.0
PRODID:-//wp-events-plugin.com//7.2.3.1//EN
TZID:Europe/Amsterdam
X-WR-TIMEZONE:Europe/Amsterdam
BEGIN:VEVENT
UID:81@bezoekhetnoorden.nl
DTSTART;TZID=Europe/Amsterdam:20250613T090000
DTEND;TZID=Europe/Amsterdam:20250623T000000
DTSTAMP:20250101T113908Z
URL:https://bezoekhetnoorden.nl/evenementen/oerol-festival/
SUMMARY:Oerol festival
DESCRIPTION:Terschellings Oerol festival staat bekend als één van de leuk
 ste en meest bijzondere theaterfestivals in Europa. Het is sinds de eerste
  editie in 1982 uitgegroeid tot een waar fenomeen. Ieder jaar in juni is h
 et Waddeneiland tien dagen lang het podium voor theater\, dans\, straatthe
 ater\, beeldende kunst en muziek. De voorstellingen worden speciaal voor d
 e bijzondere locaties gemaakt\, of daarop aangepast. Van grote spektakelst
 ukken tot mime\, van intiem muziektheater tot hilarische circusvoorstellin
 gen\, van westerns tot interactieve installaties: je treft het aan in de d
 uinen\, op het strand\, in bossen\, op dijken\, in schuren en gewoon op st
 raat.
ATTACH;FMTTYPE=image/jpeg:https://bezoekhetnoorden.nl/new/wp-content/uploa
 ds/2016/02/Oeral-festival.jpg
CATEGORIES:Festival
LOCATION:Waddeneiland Terschelling\, Terschelling\, Terschelling\, Frieslan
 d\, Terschelling\, Nederland
X-APPLE-STRUCTURED-LOCATION;VALUE=URI;X-ADDRESS=Terschelling\, Terschelling
 \, Friesland\, Terschelling\, Nederland;X-APPLE-RADIUS=100;X-TITLE=Waddene
 iland Terschelling:geo:0,0
END:VEVENT
BEGIN:VTIMEZONE
TZID:Europe/Amsterdam
X-LIC-LOCATION:Europe/Amsterdam
BEGIN:DAYLIGHT
DTSTART:20250330T030000
TZOFFSETFROM:+0100
TZOFFSETTO:+0200
TZNAME:CEST
END:DAYLIGHT
END:VTIMEZONE
END:VCALENDAR