﻿BEGIN:VCALENDAR
VERSION:2.0
PRODID:-//wp-events-plugin.com//7.2.3.1//EN
TZID:Europe/Amsterdam
X-WR-TIMEZONE:Europe/Amsterdam
BEGIN:VEVENT
UID:183@bezoekhetnoorden.nl
DTSTART;TZID=Europe/Amsterdam:20200207T130000
DTEND;TZID=Europe/Amsterdam:20200209T170000
DTSTAMP:20190220T132227Z
URL:https://bezoekhetnoorden.nl/evenementen/occasionshow-stadskanaal/
SUMMARY:Occasionshow Stadskanaal
DESCRIPTION:Als er ooit een moment komt om NIEUW\, ZUINIGER te gaan rijden\
 , dan is het nu!!\n\n3 Dagen lang profiteert u van ongekend veel auto voor
 deel in het Pagecentrum Stadskanaal. U heeft de keuze uit ruim 250 auto oc
 casions van alle bekende merken en uitvoeringen.\n\nWat kunt u nog meer ve
 rwachten dan 250 perfect onderhouden occasions tegen messcherpe prijzen\, 
 natuurlijk met Bovag garantie\, gigantische kortingen zonder inruil en fin
 ancieringsacties\, goedkoper dan uw huidige bank !!\n\nNu ook met nieuwe e
 n gebruikte scooters en brommobielen (minicars 45KM)!\n\nUw kunt ongedwong
 en kijken en vergelijken en onze verkopers gaan tot het uiterste bij de ta
 xatie van uw huidige auto .\n\nVrijdag van 13.00 t/m 21.00 uur.\nZaterdag 
 van 11.00 t/m 17.00 uur.\nZondag van 11.00 t/m 17.00 uur.
ATTACH;FMTTYPE=image/jpeg:https://bezoekhetnoorden.nl/new/wp-content/uploa
 ds/2016/10/Occasionshow.jpg
CATEGORIES:Beurs / Congres / Lezing
LOCATION:\, \, 
X-APPLE-STRUCTURED-LOCATION;VALUE=URI;X-ADDRESS=\, ;X-APPLE-RADIUS=100;X-TI
 TLE=:geo:0,0
END:VEVENT
BEGIN:VTIMEZONE
TZID:Europe/Amsterdam
X-LIC-LOCATION:Europe/Amsterdam
BEGIN:STANDARD
DTSTART:20191027T020000
TZOFFSETFROM:+0200
TZOFFSETTO:+0100
TZNAME:CET
END:STANDARD
END:VTIMEZONE
END:VCALENDAR