﻿BEGIN:VCALENDAR
VERSION:2.0
PRODID:-//wp-events-plugin.com//7.2.3.1//EN
TZID:Europe/Amsterdam
X-WR-TIMEZONE:Europe/Amsterdam
BEGIN:VEVENT
UID:1107@bezoekhetnoorden.nl
DTSTART;TZID=Europe/Amsterdam:20180923T100000
DTEND;TZID=Europe/Amsterdam:20180923T180000
DTSTAMP:20180405T185329Z
URL:https://bezoekhetnoorden.nl/evenementen/noord-nedelands-kampioenschap-
 bodypaint/
SUMMARY:Noord Nedelands Kampioenschap Bodypaint
DESCRIPTION:Uniek in het noorden is het NNKBODYPAINT Voor het 9e jaar in ri
 j nemen internationale bodypainters in een 6 uur durende wedstrijd het teg
 en elkaar op. Het thema 2018 is wereld feesten.\n2 catogorieen \; professi
 onals en amateurs.\nSpons en penseel of airbrush.\nMet of zonder special e
 ffects.\nDe deelnemers starten om 8 uur. Vanaf 10 is het publiek vrij toeg
 ankelijk om de kunst op levend canvas te aanschouwen. Of Deelnemen. Als mo
 del of kunstenaar meld je aan nnkbroden@outlook.nl Natuurlijk zijn er voor
  de kinderen schminkers en ballonclownen aanwezig.  Kom dit spektakel beki
 jken .de kermis staat voor de deur want het is op rodermarkt zondag . Dat 
 betekent Feest in Roden .\n\n\n\n
ATTACH;FMTTYPE=image/jpeg:https://bezoekhetnoorden.nl/new/wp-content/uploa
 ds/2018/04/bodypaint.jpg
LOCATION:\, \, 
X-APPLE-STRUCTURED-LOCATION;VALUE=URI;X-ADDRESS=\, ;X-APPLE-RADIUS=100;X-TI
 TLE=:geo:0,0
END:VEVENT
BEGIN:VTIMEZONE
TZID:Europe/Amsterdam
X-LIC-LOCATION:Europe/Amsterdam
BEGIN:DAYLIGHT
DTSTART:20180325T030000
TZOFFSETFROM:+0100
TZOFFSETTO:+0200
TZNAME:CEST
END:DAYLIGHT
END:VTIMEZONE
END:VCALENDAR