﻿BEGIN:VCALENDAR
VERSION:2.0
PRODID:-//wp-events-plugin.com//7.2.3.1//EN
TZID:Europe/Amsterdam
X-WR-TIMEZONE:Europe/Amsterdam
BEGIN:VEVENT
UID:283@bezoekhetnoorden.nl
DTSTART;TZID=Europe/Amsterdam:20200101T120000
DTEND;TZID=Europe/Amsterdam:20200101T140000
DTSTAMP:20191227T180420Z
URL:https://bezoekhetnoorden.nl/evenementen/nieuwjaarsduik-moekesgat/
SUMMARY:Nieuwjaarsduik - Moekesgat
DESCRIPTION:1 Januari is de dag van de echte helden! Dan is het namelijk we
 er tijd voor de Nieuwjaarsduik 🏊‍♂️ in Moekesgat! \n\nDeelname is
  GRATIS! Inschrijven kan op 1 januari vanaf 11 uur. Om 12 uur wordt het st
 artschot gegeven door de Wethouder. \n\nNa de duik is er tegen betaling sn
 ert en broodje rookworst. En uiteraard gluhwein en warme chocolademelk .\n
 \nWie durft het aan?!\n
ATTACH;FMTTYPE=image/jpeg:https://bezoekhetnoorden.nl/new/wp-content/uploa
 ds/2016/12/water-tijdens-nieuwjaarsduik-zeldzaam-warm.jpg
CATEGORIES:Nieuwjaarsduik
LOCATION:\, \, 
X-APPLE-STRUCTURED-LOCATION;VALUE=URI;X-ADDRESS=\, ;X-APPLE-RADIUS=100;X-TI
 TLE=:geo:0,0
END:VEVENT
BEGIN:VTIMEZONE
TZID:Europe/Amsterdam
X-LIC-LOCATION:Europe/Amsterdam
BEGIN:STANDARD
DTSTART:20191027T020000
TZOFFSETFROM:+0200
TZOFFSETTO:+0100
TZNAME:CET
END:STANDARD
END:VTIMEZONE
END:VCALENDAR