﻿BEGIN:VCALENDAR
VERSION:2.0
PRODID:-//wp-events-plugin.com//7.2.3.1//EN
TZID:Europe/Amsterdam
X-WR-TIMEZONE:Europe/Amsterdam
BEGIN:VEVENT
UID:1391@bezoekhetnoorden.nl
DTSTART;TZID=Europe/Amsterdam:20181101T193000
DTEND;TZID=Europe/Amsterdam:20181101T220000
DTSTAMP:20181018T091125Z
URL:https://bezoekhetnoorden.nl/evenementen/natuurschrijvers-vroeger-en-nu
 /
SUMMARY:Natuurschrijvers vroeger en nu
DESCRIPTION:Op donderdagavond 1 november neemt Aaldrik Pot ons mee in de we
 reld van de natuurschrijvers van vroeger en nu. De lezing begint om 20.00 
 uur (inloop vanaf 19.30 uur) in het Duurzaamheidscentrum\, Bosrand 2\, 940
 1 SL Assen. \n\nU kunt de lezing bijwonen voor € 2\,50. Aanmelden is noo
 dzakelijk en kan via https://www.drentslandschap.nl/event/lezing-linnaeus\
 nAaldrik schreef samen met Barbara de Beaufort het natuurdagboek ‘De ons
 terfelijke nachtegalen’ welke momenteel is genomineerd voor de Jan Wolke
 rsprijs 2018. Dit boek is in de pauze te koop.\nOf bestel hem gelijk bij B
 ol.com\n\nWat voor mensen zijn dat\, natuurschrijvers? Wat maken zij mee? 
 En door wie zijn ze geïnspireerd? Kom naar deze boeiende lezing van Aaldr
 ik Pot\, faunaspecialist voor Staatsbosbeheer en natuurschrijver voor dive
 rse kranten en tijdschriften. \n\nVerschillende bekende namen als Carolus 
 Linnaeus\, Von Humboldt en Thijsse komen langs in een explosie aan mooie v
 erhalen over wat natuurschrijvers drijft en over hun soms nogal hachelijke
  avonturen. Ook vertelt Aaldrik over Caspar Janssen\, die recent een voett
 ocht door de Nederlandse natuur maakte en hier een serie verhalen voor de 
 Volkskrant over schreef. 
ATTACH;FMTTYPE=image/jpeg:https://bezoekhetnoorden.nl/new/wp-content/uploa
 ds/2018/10/foto-vervolgpagina-geef-natuur-cadeau-gasterse-duinen-2013-JdV-
 1024.jpg
CATEGORIES:Lezing
LOCATION:\, \, 
X-APPLE-STRUCTURED-LOCATION;VALUE=URI;X-ADDRESS=\, ;X-APPLE-RADIUS=100;X-TI
 TLE=:geo:0,0
END:VEVENT
BEGIN:VTIMEZONE
TZID:Europe/Amsterdam
X-LIC-LOCATION:Europe/Amsterdam
BEGIN:STANDARD
DTSTART:20181028T020000
TZOFFSETFROM:+0200
TZOFFSETTO:+0100
TZNAME:CET
END:STANDARD
END:VTIMEZONE
END:VCALENDAR