﻿BEGIN:VCALENDAR
VERSION:2.0
PRODID:-//wp-events-plugin.com//7.2.3.1//EN
TZID:Europe/Amsterdam
X-WR-TIMEZONE:Europe/Amsterdam
BEGIN:VEVENT
UID:678@bezoekhetnoorden.nl
DTSTART;TZID=Europe/Amsterdam:20250510T100000
DTEND;TZID=Europe/Amsterdam:20250510T160000
DTSTAMP:20250111T220045Z
URL:https://bezoekhetnoorden.nl/evenementen/nationale-reddingbootdag/
SUMMARY:Nationale reddingbootdag Schiermonnikoog
DESCRIPTION:Eenmaal per jaar organiseren de vrijwilligers van de Koninklijk
 e Nederlandse Redding Maatschappij een landelijke open dag. Dit is dé dag
  om actief kennis te maken met het werk\, de vrijwilligers en de boten van
  de KNRM.\n\nHet reddingstation van Schiermonnikoog houdt open dag van 10.
 00 tot 16.00 uur.\n\nHet hoofdonderdeel is\, als het weer het toelaat\, he
 t varen met de reddingboot.\n\nDaarnaast is het boothuis geopend en zijn e
 r vrijwilligers aanwezig om alle vragen te beantwoorden.\nLet op: het meev
 aren voor donateurs is onder voorbehoud van het binnenkomen van (nood)opro
 epen.
ATTACH;FMTTYPE=image/jpeg:https://bezoekhetnoorden.nl/new/wp-content/uploa
 ds/2015/12/reddingsbootdag.jpg
CATEGORIES:Open dag,Watersport
LOCATION:Reddingsstation Schiermonnikoog\, Reeweg 21\, Schiermonnikoog\, Gr
 oningen\, 9166\, Schiermonnikoog\, Nederland
GEO:53.476934;6.162168
X-APPLE-STRUCTURED-LOCATION;VALUE=URI;X-ADDRESS=Reeweg 21\, Schiermonnikoog
 \, Groningen\, 9166\, Schiermonnikoog\, Nederland;X-APPLE-RADIUS=100;X-TIT
 LE=Reddingsstation Schiermonnikoog:geo:53.476934,6.162168
END:VEVENT
BEGIN:VTIMEZONE
TZID:Europe/Amsterdam
X-LIC-LOCATION:Europe/Amsterdam
BEGIN:DAYLIGHT
DTSTART:20250330T030000
TZOFFSETFROM:+0100
TZOFFSETTO:+0200
TZNAME:CEST
END:DAYLIGHT
END:VTIMEZONE
END:VCALENDAR