﻿BEGIN:VCALENDAR
VERSION:2.0
PRODID:-//wp-events-plugin.com//7.2.3.1//EN
TZID:Europe/Amsterdam
X-WR-TIMEZONE:Europe/Amsterdam
BEGIN:VEVENT
UID:229@bezoekhetnoorden.nl
DTSTART;TZID=Europe/Amsterdam:20250510T100000
DTEND;TZID=Europe/Amsterdam:20250510T160000
DTSTAMP:20250111T223554Z
URL:https://bezoekhetnoorden.nl/evenementen/nationale-reddingbootdag-vliel
 and/
SUMMARY:Nationale reddingbootdag Vlieland
DESCRIPTION:Eenmaal per jaar organiseren de vrijwilligers van de Koninklijk
 e Nederlandse Redding Maatschappij een landelijke open dag. Dit is dé dag
  om actief kennis te maken met het werk\, de vrijwilligers en de boten van
  de KNRM.\n\nHet reddingstation houdt open dag van 10.00 tot 16.00 uur.\n\
 nHet hoofdonderdeel is\, als het weer het toelaat\, het varen met de reddi
 ngboot.\n\nDaarnaast is het boothuis geopend en zijn er vrijwilligers aanw
 ezig om alle vragen te beantwoorden.\nLet op: het meevaren voor donateurs 
 is onder voorbehoud van het binnenkomen van (nood)oproepen.
ATTACH;FMTTYPE=image/jpeg:https://bezoekhetnoorden.nl/new/wp-content/uploa
 ds/2015/12/reddingsbootdag.jpg
CATEGORIES:Open dag
LOCATION:KNRM reddingstation Vlieland\, Havenweg 60\, Vlieland \, Friesland
 \, 8899\, Vlieland\, Nederland
GEO:53.298224;5.090082
X-APPLE-STRUCTURED-LOCATION;VALUE=URI;X-ADDRESS=Havenweg 60\, Vlieland \, F
 riesland\, 8899\, Vlieland\, Nederland;X-APPLE-RADIUS=100;X-TITLE=KNRM red
 dingstation Vlieland:geo:53.298224,5.090082
END:VEVENT
BEGIN:VTIMEZONE
TZID:Europe/Amsterdam
X-LIC-LOCATION:Europe/Amsterdam
BEGIN:DAYLIGHT
DTSTART:20250330T030000
TZOFFSETFROM:+0100
TZOFFSETTO:+0200
TZNAME:CEST
END:DAYLIGHT
END:VTIMEZONE
END:VCALENDAR