﻿BEGIN:VCALENDAR
VERSION:2.0
PRODID:-//wp-events-plugin.com//7.2.3.1//EN
TZID:Europe/Amsterdam
X-WR-TIMEZONE:Europe/Amsterdam
BEGIN:VEVENT
UID:236@bezoekhetnoorden.nl
DTSTART;TZID=Europe/Amsterdam:20250510T100000
DTEND;TZID=Europe/Amsterdam:20250510T160000
DTSTAMP:20250111T224303Z
URL:https://bezoekhetnoorden.nl/evenementen/nationale-reddingbootdag-texel
 -oudeschild/
SUMMARY:Nationale reddingbootdag Texel Oudeschild
DESCRIPTION:Eenmaal per jaar organiseren de vrijwilligers van de Koninklijk
 e Nederlandse Redding Maatschappij een landelijke open dag. Dit is dé dag
  om actief kennis te maken met het werk\, de vrijwilligers en de boten van
  de KNRM.\n\nHet reddingstation houdt open dag van 10.00 tot 16.00 uur.\n\
 nHet hoofdonderdeel is\, als het weer het toelaat\, het varen met de reddi
 ngboot.\n\nDaarnaast is het boothuis geopend en zijn er vrijwilligers aanw
 ezig om alle vragen te beantwoorden.\nLet op: het meevaren voor donateurs 
 is onder voorbehoud van het binnenkomen van (nood)oproepen.
ATTACH;FMTTYPE=image/jpeg:https://bezoekhetnoorden.nl/new/wp-content/uploa
 ds/2015/12/reddingsbootdag.jpg
CATEGORIES:Open dag
LOCATION:KNRM reddingstation Texel Oudeschild\, Haven (nabij verenigingshav
 en) \, Oudeschild \, Noord Holland\, 1791\, Texel \, Nederland
GEO:53.038975;4.847988
X-APPLE-STRUCTURED-LOCATION;VALUE=URI;X-ADDRESS=Haven (nabij verenigingshav
 en) \, Oudeschild \, Noord Holland\, 1791\, Texel \, Nederland;X-APPLE-RAD
 IUS=100;X-TITLE=KNRM reddingstation Texel Oudeschild:geo:53.038975,4.84798
 8
END:VEVENT
BEGIN:VTIMEZONE
TZID:Europe/Amsterdam
X-LIC-LOCATION:Europe/Amsterdam
BEGIN:DAYLIGHT
DTSTART:20250330T030000
TZOFFSETFROM:+0100
TZOFFSETTO:+0200
TZNAME:CEST
END:DAYLIGHT
END:VTIMEZONE
END:VCALENDAR