﻿BEGIN:VCALENDAR
VERSION:2.0
PRODID:-//wp-events-plugin.com//7.2.3.1//EN
TZID:Europe/Amsterdam
X-WR-TIMEZONE:Europe/Amsterdam
BEGIN:VEVENT
UID:2121@bezoekhetnoorden.nl
DTSTART;TZID=Europe/Amsterdam:20230802T193000
DTEND;TZID=Europe/Amsterdam:20230802T210000
DTSTAMP:20230424T180433Z
URL:https://bezoekhetnoorden.nl/evenementen/nationale-reddingbootdag-tersc
 helling-west-2/
SUMMARY:Nationale reddingbootdag Terschelling West
DESCRIPTION:Woensdag 2 en 16 augustus wordt er door de KNRM Terschelling ee
 n gezamenlijke demonstratie gehouden bij het strand bij Paal 8 / West aan 
 Zee. De reddingboot Arie Visser van station West Terschelling en de reddin
 gboten Frans Hogewind en Tonijn van station Terschelling Paal 8 zullen\, s
 amen met de Lifeguards\, vanaf 19.30 uur gezamenlijk oefenen.\n\nOp het st
 rand staat het Kusthulpverleningsvoertuig en het winkeltje van de KNRM\, w
 aar uw niet alleen donateur van de KNRM kunt worden\, maar ook leuke spull
 en kunt kopen.
ATTACH;FMTTYPE=image/jpeg:https://bezoekhetnoorden.nl/new/wp-content/uploa
 ds/2015/12/reddingsbootdag.jpg
CATEGORIES:Open dag
LOCATION:\, \, 
X-APPLE-STRUCTURED-LOCATION;VALUE=URI;X-ADDRESS=\, ;X-APPLE-RADIUS=100;X-TI
 TLE=:geo:0,0
END:VEVENT
BEGIN:VTIMEZONE
TZID:Europe/Amsterdam
X-LIC-LOCATION:Europe/Amsterdam
BEGIN:DAYLIGHT
DTSTART:20230326T030000
TZOFFSETFROM:+0100
TZOFFSETTO:+0200
TZNAME:CEST
END:DAYLIGHT
END:VTIMEZONE
END:VCALENDAR