﻿BEGIN:VCALENDAR
VERSION:2.0
PRODID:-//wp-events-plugin.com//7.2.3.1//EN
TZID:Europe/Amsterdam
X-WR-TIMEZONE:Europe/Amsterdam
BEGIN:VEVENT
UID:1295@bezoekhetnoorden.nl
DTSTART;TZID=Europe/Amsterdam:20191102T083000
DTEND;TZID=Europe/Amsterdam:20191102T160000
DTSTAMP:20181219T201443Z
URL:https://bezoekhetnoorden.nl/evenementen/mtb-van-der-valk/
SUMMARY:MTB Van der Valk
DESCRIPTION:Nationaal park Dwingelderveld staat op 2 november in het teken 
 van MTB Van der Valk. Drie MTB-toertochten van respectievelijk 30\, 50 of 
 70 km\, die zijn uitgezet door de routebouwers van ATB-Beilen\, laten je v
 oor een keer kennis maken met de mooiste trails in Zuid-West Drenthe. Voor
  iedereen die wel van een beetje armslag houdt een niet te missen MTB-even
 ement\, van der Valk in Spier deze sportieve tocht dwars door de natuur.\n
 \nDe link met Van der Valk\, doet al vermoeden dat het onze deelnemers ner
 gens aan zal ontbreken. Want zoals Van der Valk betaamt is verzorging tot 
 in de puntjes verzorgd. Na het volbrengen van de mountainbiketocht kunnen 
 jij en je fietsvrienden onder het genot van een hapje en een drankje julli
 e belevenissen ophalen. Bovendien zijn er diverse exposanten aanwezig die 
 de nieuwste materialen presenteren bij de Bike Expo.
ATTACH;FMTTYPE=image/jpeg:https://bezoekhetnoorden.nl/new/wp-content/uploa
 ds/2018/08/MTB-van-der-valk.jpg
CATEGORIES:ATB tocht
LOCATION:\, \, 
X-APPLE-STRUCTURED-LOCATION;VALUE=URI;X-ADDRESS=\, ;X-APPLE-RADIUS=100;X-TI
 TLE=:geo:0,0
END:VEVENT
BEGIN:VTIMEZONE
TZID:Europe/Amsterdam
X-LIC-LOCATION:Europe/Amsterdam
BEGIN:STANDARD
DTSTART:20191027T020000
TZOFFSETFROM:+0200
TZOFFSETTO:+0100
TZNAME:CET
END:STANDARD
END:VTIMEZONE
END:VCALENDAR