﻿BEGIN:VCALENDAR
VERSION:2.0
PRODID:-//wp-events-plugin.com//7.2.3.1//EN
TZID:Europe/Amsterdam
X-WR-TIMEZONE:Europe/Amsterdam
BEGIN:VEVENT
UID:1300@bezoekhetnoorden.nl
DTSTART;TZID=Europe/Amsterdam:20191109T193000
DTEND;TZID=Europe/Amsterdam:20191109T220000
DTSTAMP:20191022T163706Z
URL:https://bezoekhetnoorden.nl/evenementen/mtb-nightride-gieten/
SUMMARY:Mtb nightride gieten
DESCRIPTION:Altijd al eens mee willen doen aan een MTB Nightride? Dan is di
 t je kans! Mountainbike vereniging de Hondsrug organiseert op één van de
  mooiste MTB routes van het Drenthe  een spectaculaire nachtrit in het don
 ker. De duisternis geeft mountainbikers extra uitdaging. Je draagt tijdens
  de tocht een goede led spot (verlichting) op je helm en/of stuur en zo ga
  je op pad.\n\nDe tocht is sinds vorig jaar op een nieuwe locatie\, waardo
 or de club het parcours nog spectaculairder heeft kunnen maken dan voorgaa
 nde edities. Dit jaar beloofd de club daar nog een schepje boven op te doe
 n. De mountainbiketocht leidt je over een spectaculaire singeltrack vol me
 t technische uitdagingen door\, rond en om de zandgaten van het bos in Gie
 ten. De route heeft een lengte van ongeveer 8 km en is daarom voor zowel b
 eginners\, als gevorderden goed te doen en mag zo vaak als gewenst gereden
  worden. 
ATTACH;FMTTYPE=image/jpeg:https://bezoekhetnoorden.nl/new/wp-content/uploa
 ds/2018/08/MTB-NIGHTRIDE-GIETEN.jpg
CATEGORIES:ATB tocht
LOCATION:\, \, 
X-APPLE-STRUCTURED-LOCATION;VALUE=URI;X-ADDRESS=\, ;X-APPLE-RADIUS=100;X-TI
 TLE=:geo:0,0
END:VEVENT
BEGIN:VTIMEZONE
TZID:Europe/Amsterdam
X-LIC-LOCATION:Europe/Amsterdam
BEGIN:STANDARD
DTSTART:20191027T020000
TZOFFSETFROM:+0200
TZOFFSETTO:+0100
TZNAME:CET
END:STANDARD
END:VTIMEZONE
END:VCALENDAR