﻿BEGIN:VCALENDAR
VERSION:2.0
PRODID:-//wp-events-plugin.com//7.2.3.1//EN
TZID:Europe/Amsterdam
X-WR-TIMEZONE:Europe/Amsterdam
BEGIN:VEVENT
UID:460@bezoekhetnoorden.nl
DTSTART;TZID=Europe/Amsterdam:20190628T000000
DTEND;TZID=Europe/Amsterdam:20190630T000000
DTSTAMP:20181021T125506Z
URL:https://bezoekhetnoorden.nl/evenementen/motul-tt-assen/
SUMMARY:Motul TT Assen
DESCRIPTION:De MotoGP met rijders als Valentino Rossi\, Marc Marquez en Mav
 erick Vinales is natuurlijk het absolute hoogtepunt van de traditionele Du
 tch TT. Maar de liefhebbers genieten evenzeer van de verbeten strijd in de
  Moto2 en Moto3 klasse.\n\nMet het organiseren van de Dutch TT op zondag k
 omt de organisatie tegemoet aan een lang gekoesterde wens\, om zo motorspo
 rtliefhebbers gedurende twee vrije weekenddagen op het Circuit van Drenthe
  te kunnen ontvangen. Hiermee wordt een nieuwe dimensie toegevoegd aan de 
 rijke TT-historie.\n\nDe Dutch TT: onvergetelijke motorsport met emotie\, 
 die je moet beleven en ervaren. En met een passe-partout voor de trainings
 dagen en de Dutch TT zit u op pole position!\n\nzie prijzen website\n
ATTACH;FMTTYPE=image/jpeg:https://bezoekhetnoorden.nl/new/wp-content/uploa
 ds/2017/06/tt-assen.jpg
CATEGORIES:Racen
LOCATION:\, \, 
X-APPLE-STRUCTURED-LOCATION;VALUE=URI;X-ADDRESS=\, ;X-APPLE-RADIUS=100;X-TI
 TLE=:geo:0,0
END:VEVENT
BEGIN:VTIMEZONE
TZID:Europe/Amsterdam
X-LIC-LOCATION:Europe/Amsterdam
BEGIN:DAYLIGHT
DTSTART:20190331T030000
TZOFFSETFROM:+0100
TZOFFSETTO:+0200
TZNAME:CEST
END:DAYLIGHT
END:VTIMEZONE
END:VCALENDAR