﻿BEGIN:VCALENDAR
VERSION:2.0
PRODID:-//wp-events-plugin.com//7.2.3.1//EN
TZID:Europe/Amsterdam
X-WR-TIMEZONE:Europe/Amsterdam
BEGIN:VEVENT
UID:1230@bezoekhetnoorden.nl
DTSTART;TZID=Europe/Amsterdam:20181006T200000
DTEND;TZID=Europe/Amsterdam:20181007T010000
DTSTAMP:20180704T145429Z
URL:https://bezoekhetnoorden.nl/evenementen/mega-piraten-festijn-marum/
SUMMARY:Mega Piraten Festijn Marum
DESCRIPTION:Optredens van o.a. Bökkers\, John de Bever\, Jannes\, Jan Keiz
 er &amp\; Anny Schilder\, Esperando’s\, Lee Towers\, Ancora\, René Kars
 t en nog een 15-tal artiesten.\n\nPresentatie is handen van Willie Oosterh
 uis\n\nPodiumplaatsen\n€ 29.50 euro\n\nStaanplaatsen\n€ 25.00 euro\n\n
ATTACH;FMTTYPE=image/jpeg:https://bezoekhetnoorden.nl/new/wp-content/uploa
 ds/2017/01/mega-piraten.jpg
CATEGORIES:Muziek
LOCATION:\, \, 
X-APPLE-STRUCTURED-LOCATION;VALUE=URI;X-ADDRESS=\, ;X-APPLE-RADIUS=100;X-TI
 TLE=:geo:0,0
END:VEVENT
BEGIN:VTIMEZONE
TZID:Europe/Amsterdam
X-LIC-LOCATION:Europe/Amsterdam
BEGIN:DAYLIGHT
DTSTART:20180325T030000
TZOFFSETFROM:+0100
TZOFFSETTO:+0200
TZNAME:CEST
END:DAYLIGHT
END:VTIMEZONE
END:VCALENDAR