﻿BEGIN:VCALENDAR
VERSION:2.0
PRODID:-//wp-events-plugin.com//7.2.3.1//EN
TZID:Europe/Amsterdam
X-WR-TIMEZONE:Europe/Amsterdam
BEGIN:VEVENT
UID:1810@bezoekhetnoorden.nl
DTSTART;TZID=Europe/Amsterdam:20190622T090000
DTEND;TZID=Europe/Amsterdam:20190623T010000
DTSTAMP:20190505T175456Z
URL:https://bezoekhetnoorden.nl/evenementen/mar-athon-2019-wandelen-en-har
 dlopen/
SUMMARY:Mar-athon 2019 | Wandelen en Hardlopen
DESCRIPTION:Bereid je voor op de 5e editie van de Mar-athon rond Sneek en h
 et Sneekermeer! \n\nOok dit jaar is er weer keus uit verschillende afstand
 en. Voor hardlopen zijn de afstanden 42\, 21\, 10 of 5 kilometer. Ook is e
 r dit jaar voor kinderen de mogelijkheid om deel te nemen aan de kidsrun! 
 Deze kent een afstand van 1 of 2 km.\n\nmeer info: https://mar-athon.com/h
 ardlopen\n\nNaast het hardlopen kun je ook weer meedoen met de wandeltocht
 ! Zo heb je de keus om 42\, 21 of 10 kilometer te wandelen.
ATTACH;FMTTYPE=image/jpeg:https://bezoekhetnoorden.nl/new/wp-content/uploa
 ds/2019/05/Mar-athon-2019-Wandelen-en-Hardlopen.jpg
CATEGORIES:Hardlopen
LOCATION:\, \, 
X-APPLE-STRUCTURED-LOCATION;VALUE=URI;X-ADDRESS=\, ;X-APPLE-RADIUS=100;X-TI
 TLE=:geo:0,0
END:VEVENT
BEGIN:VTIMEZONE
TZID:Europe/Amsterdam
X-LIC-LOCATION:Europe/Amsterdam
BEGIN:DAYLIGHT
DTSTART:20190331T030000
TZOFFSETFROM:+0100
TZOFFSETTO:+0200
TZNAME:CEST
END:DAYLIGHT
END:VTIMEZONE
END:VCALENDAR