﻿BEGIN:VCALENDAR
VERSION:2.0
PRODID:-//wp-events-plugin.com//7.2.3.1//EN
TZID:Europe/Amsterdam
X-WR-TIMEZONE:Europe/Amsterdam
BEGIN:VEVENT
UID:1984@bezoekhetnoorden.nl
DTSTART;TZID=Europe/Amsterdam:20200126T133000
DTEND;TZID=Europe/Amsterdam:20200126T153000
DTSTAMP:20191220T172514Z
URL:https://bezoekhetnoorden.nl/evenementen/maak-je-eigen-fantasie-tuinvog
 el/
SUMMARY:Maak je eigen fantasie-tuinvogel
DESCRIPTION:Creatief met...\nSamen met Thérèse van de Rode Spreeuw maak j
 e een eigen tuinvogel. Hoe die er uit ziet\, mag je helemaal zelf bepalen.
  Een fantasiedier\, een mus of een grote bonte specht\, alles mag en kan i
 n dit weekend dat in het teken staat van de nationale tuinvogeltelling. Th
 érèse zorgt voor voldoende materiaal om mee te werken. Heb je zelf nog h
 erbruikbaar materiaal liggen\, dan mag je dat natuurlijk meenemen!\n
ATTACH;FMTTYPE=image/jpeg:https://bezoekhetnoorden.nl/new/wp-content/uploa
 ds/2019/12/week-40-BvdB-Steenbreek-foto-e1572873351673.jpg
CATEGORIES:Workshop
LOCATION:\, \, 
X-APPLE-STRUCTURED-LOCATION;VALUE=URI;X-ADDRESS=\, ;X-APPLE-RADIUS=100;X-TI
 TLE=:geo:0,0
END:VEVENT
BEGIN:VTIMEZONE
TZID:Europe/Amsterdam
X-LIC-LOCATION:Europe/Amsterdam
BEGIN:STANDARD
DTSTART:20191027T020000
TZOFFSETFROM:+0200
TZOFFSETTO:+0100
TZNAME:CET
END:STANDARD
END:VTIMEZONE
END:VCALENDAR